BEGIN:VCALENDAR
VERSION:2.0
PRODID:-//Επιμελητήριο Χίου - ECPv6.15.16//NONSGML v1.0//EN
CALSCALE:GREGORIAN
METHOD:PUBLISH
X-WR-CALNAME:Επιμελητήριο Χίου
X-ORIGINAL-URL:https://www.chioschamber.gr
X-WR-CALDESC:Events for Επιμελητήριο Χίου
REFRESH-INTERVAL;VALUE=DURATION:PT1H
X-Robots-Tag:noindex
X-PUBLISHED-TTL:PT1H
BEGIN:VTIMEZONE
TZID:Europe/Athens
BEGIN:DAYLIGHT
TZOFFSETFROM:+0200
TZOFFSETTO:+0300
TZNAME:EEST
DTSTART:20250330T010000
END:DAYLIGHT
BEGIN:STANDARD
TZOFFSETFROM:+0300
TZOFFSETTO:+0200
TZNAME:EET
DTSTART:20251026T010000
END:STANDARD
BEGIN:DAYLIGHT
TZOFFSETFROM:+0200
TZOFFSETTO:+0300
TZNAME:EEST
DTSTART:20260329T010000
END:DAYLIGHT
BEGIN:STANDARD
TZOFFSETFROM:+0300
TZOFFSETTO:+0200
TZNAME:EET
DTSTART:20261025T010000
END:STANDARD
BEGIN:DAYLIGHT
TZOFFSETFROM:+0200
TZOFFSETTO:+0300
TZNAME:EEST
DTSTART:20270328T010000
END:DAYLIGHT
BEGIN:STANDARD
TZOFFSETFROM:+0300
TZOFFSETTO:+0200
TZNAME:EET
DTSTART:20271031T010000
END:STANDARD
END:VTIMEZONE
BEGIN:VEVENT
DTSTART;TZID=Europe/Athens:20260317T090000
DTEND;TZID=Europe/Athens:20260317T170000
DTSTAMP:20260419T235633
CREATED:20260304T093944Z
LAST-MODIFIED:20260304T095625Z
UID:46645-1773738000-1773766800@www.chioschamber.gr
SUMMARY:Γενική Συνέλευση και Εκλογές Συλλόγου Εστίασης
DESCRIPTION:
URL:https://www.chioschamber.gr/event/%ce%b3%ce%b5%ce%bd%ce%b9%ce%ba%ce%ae-%cf%83%cf%85%ce%bd%ce%ad%ce%bb%ce%b5%cf%85%cf%83%ce%b7-%ce%ba%ce%b1%ce%b9-%ce%b5%ce%ba%ce%bb%ce%bf%ce%b3%ce%ad%cf%82-%cf%83%cf%85%ce%bb%ce%bb%cf%8c%ce%b3%ce%bf/
CATEGORIES:Αίθουσα Συνεδριάσεων
END:VEVENT
BEGIN:VEVENT
DTSTART;TZID=Europe/Athens:20260318T180000
DTEND;TZID=Europe/Athens:20260318T200000
DTSTAMP:20260419T235633
CREATED:20260304T093704Z
LAST-MODIFIED:20260304T093836Z
UID:46641-1773856800-1773864000@www.chioschamber.gr
SUMMARY:Ενημερωτική εκδήλωση: "Δημιουργία ενεργειακών Κοινοτήτων: Καλές Πρακτικές και Προκλήσεις"
DESCRIPTION:
URL:https://www.chioschamber.gr/event/%cf%83%cf%85%ce%bd%ce%ac%ce%bd%cf%84%ce%b7%cf%83%ce%b7-%ce%bc%ce%b5-%cf%86%ce%bf%cf%81%ce%b5%ce%af%cf%82-%ce%b3%ce%b9%ce%b1-%ce%b4%ce%b7%ce%bc%ce%b9%ce%bf%cf%85%cf%81%ce%b3%ce%af%ce%b1-%ce%ba%ce%b1/
CATEGORIES:Αίθουσα Συνεδριάσεων
END:VEVENT
BEGIN:VEVENT
DTSTART;TZID=Europe/Athens:20260319T180000
DTEND;TZID=Europe/Athens:20260319T193000
DTSTAMP:20260419T235633
CREATED:20260304T094029Z
LAST-MODIFIED:20260304T094109Z
UID:46647-1773943200-1773948600@www.chioschamber.gr
SUMMARY:Συνάντηση με Φορείς για δημιουργία καταδυτικού καταφυγίου
DESCRIPTION:
URL:https://www.chioschamber.gr/event/%cf%83%cf%85%ce%bd%ce%ac%ce%bd%cf%84%ce%b7%cf%83%ce%b7-%ce%bc%ce%b5-%cf%86%ce%bf%cf%81%ce%b5%ce%af%cf%82-%ce%b3%ce%b9%ce%b1-%ce%b4%ce%b7%ce%bc%ce%b9%ce%bf%cf%85%cf%81%ce%b3%ce%af%ce%b1-%ce%ba%ce%b1-2/
CATEGORIES:Αίθουσα Συνεδριάσεων
END:VEVENT
BEGIN:VEVENT
DTSTART;TZID=Europe/Athens:20260327T183000
DTEND;TZID=Europe/Athens:20260327T210000
DTSTAMP:20260419T235633
CREATED:20260311T110608Z
LAST-MODIFIED:20260311T110608Z
UID:46695-1774636200-1774645200@www.chioschamber.gr
SUMMARY:Γενική Συνέλευση Φορέα Τουρισμού Χίου
DESCRIPTION:
URL:https://www.chioschamber.gr/event/%ce%b3%ce%b5%ce%bd%ce%b9%ce%ba%ce%ae-%cf%83%cf%85%ce%bd%ce%ad%ce%bb%ce%b5%cf%85%cf%83%ce%b7-%cf%86%ce%bf%cf%81%ce%ad%ce%b1-%cf%84%ce%bf%cf%85%cf%81%ce%b9%cf%83%ce%bc%ce%bf%cf%8d-%cf%87%ce%af%ce%bf/
CATEGORIES:Αίθουσα Συνεδριάσεων
END:VEVENT
BEGIN:VEVENT
DTSTART;TZID=Europe/Athens:20260329T090000
DTEND;TZID=Europe/Athens:20260329T140000
DTSTAMP:20260419T235633
CREATED:20260227T063457Z
LAST-MODIFIED:20260227T063457Z
UID:46605-1774774800-1774792800@www.chioschamber.gr
SUMMARY:Αρχαιρεσίες Οδοντιατρικού Συλλόγου
DESCRIPTION:
URL:https://www.chioschamber.gr/event/%ce%b1%cf%81%cf%87%ce%b1%ce%b9%cf%81%ce%b5%cf%83%ce%af%ce%b5%cf%82-%ce%bf%ce%b4%ce%bf%ce%bd%cf%84%ce%b9%ce%b1%cf%84%cf%81%ce%b9%ce%ba%ce%bf%cf%8d-%cf%83%cf%85%ce%bb%ce%bb%cf%8c%ce%b3%ce%bf%cf%85-2/
CATEGORIES:Αίθουσα Συνεδριάσεων
END:VEVENT
BEGIN:VEVENT
DTSTART;TZID=Europe/Athens:20260329T100000
DTEND;TZID=Europe/Athens:20260329T130000
DTSTAMP:20260419T235633
CREATED:20260224T111905Z
LAST-MODIFIED:20260224T111905Z
UID:46561-1774778400-1774789200@www.chioschamber.gr
SUMMARY:Αρχαιρεσίες Οδοντιατρικού Συλλόγου
DESCRIPTION:
URL:https://www.chioschamber.gr/event/%ce%b1%cf%81%cf%87%ce%b1%ce%b9%cf%81%ce%b5%cf%83%ce%af%ce%b5%cf%82-%ce%bf%ce%b4%ce%bf%ce%bd%cf%84%ce%b9%ce%b1%cf%84%cf%81%ce%b9%ce%ba%ce%bf%cf%8d-%cf%83%cf%85%ce%bb%ce%bb%cf%8c%ce%b3%ce%bf%cf%85/
CATEGORIES:Αίθουσα Συνεδριάσεων
END:VEVENT
END:VCALENDAR