BEGIN:VCALENDAR
VERSION:2.0
PRODID:-//Επιμελητήριο Χίου - ECPv6.15.16//NONSGML v1.0//EN
CALSCALE:GREGORIAN
METHOD:PUBLISH
X-ORIGINAL-URL:https://www.chioschamber.gr
X-WR-CALDESC:Events for Επιμελητήριο Χίου
REFRESH-INTERVAL;VALUE=DURATION:PT1H
X-Robots-Tag:noindex
X-PUBLISHED-TTL:PT1H
BEGIN:VTIMEZONE
TZID:Europe/Athens
BEGIN:DAYLIGHT
TZOFFSETFROM:+0200
TZOFFSETTO:+0300
TZNAME:EEST
DTSTART:20250330T010000
END:DAYLIGHT
BEGIN:STANDARD
TZOFFSETFROM:+0300
TZOFFSETTO:+0200
TZNAME:EET
DTSTART:20251026T010000
END:STANDARD
BEGIN:DAYLIGHT
TZOFFSETFROM:+0200
TZOFFSETTO:+0300
TZNAME:EEST
DTSTART:20260329T010000
END:DAYLIGHT
BEGIN:STANDARD
TZOFFSETFROM:+0300
TZOFFSETTO:+0200
TZNAME:EET
DTSTART:20261025T010000
END:STANDARD
BEGIN:DAYLIGHT
TZOFFSETFROM:+0200
TZOFFSETTO:+0300
TZNAME:EEST
DTSTART:20270328T010000
END:DAYLIGHT
BEGIN:STANDARD
TZOFFSETFROM:+0300
TZOFFSETTO:+0200
TZNAME:EET
DTSTART:20271031T010000
END:STANDARD
END:VTIMEZONE
BEGIN:VEVENT
DTSTART;TZID=Europe/Athens:20260209T150000
DTEND;TZID=Europe/Athens:20260209T200000
DTSTAMP:20260419T222355
CREATED:20260107T122912Z
LAST-MODIFIED:20260107T122927Z
UID:46358-1770649200-1770667200@www.chioschamber.gr
SUMMARY:Σεμινάριο Υγιεινής & Ασφάλειας Τροφίμων (α' μέρος)
DESCRIPTION:
URL:https://www.chioschamber.gr/event/%cf%83%ce%b5%ce%bc%ce%b9%ce%bd%ce%ac%cf%81%ce%b9%ce%bf-%cf%85%ce%b3%ce%b9%ce%b5%ce%b9%ce%bd%ce%ae%cf%82-%ce%b1%cf%83%cf%86%ce%ac%ce%bb%ce%b5%ce%b9%ce%b1%cf%82-%cf%84%cf%81%ce%bf%cf%86%ce%af%ce%bc-7/
CATEGORIES:Αίθουσα Συνεδριάσεων
END:VEVENT
BEGIN:VEVENT
DTSTART;TZID=Europe/Athens:20260210T140000
DTEND;TZID=Europe/Athens:20260210T150000
DTSTAMP:20260419T222355
CREATED:20260121T085024Z
LAST-MODIFIED:20260126T112327Z
UID:46427-1770732000-1770735600@www.chioschamber.gr
SUMMARY:Πρώτη συνάντηση εργασίας στο πλαίσιο της δράσης Άρωμα Χίου 2026
DESCRIPTION:
URL:https://www.chioschamber.gr/event/%cf%80%cf%81%cf%8e%cf%84%ce%b7-%cf%83%cf%85%ce%bd%ce%ac%ce%bd%cf%84%ce%b7%cf%83%ce%b7-%ce%b5%cf%81%ce%b3%ce%b1%cf%83%ce%af%ce%b1%cf%82-%cf%83%cf%84%ce%bf-%cf%80%ce%bb%ce%b1%ce%af%cf%83%ce%b9%ce%bf/
CATEGORIES:Αίθουσα Συνεδριάσεων
END:VEVENT
BEGIN:VEVENT
DTSTART;TZID=Europe/Athens:20260211T150000
DTEND;TZID=Europe/Athens:20260211T200000
DTSTAMP:20260419T222355
CREATED:20260107T123008Z
LAST-MODIFIED:20260107T123008Z
UID:46361-1770822000-1770840000@www.chioschamber.gr
SUMMARY:Σεμινάριο υγιεινής & Ασφάλειας Τροφίμων (β' μέρος)
DESCRIPTION:
URL:https://www.chioschamber.gr/event/%cf%83%ce%b5%ce%bc%ce%b9%ce%bd%ce%ac%cf%81%ce%b9%ce%bf-%cf%85%ce%b3%ce%b9%ce%b5%ce%b9%ce%bd%ce%ae%cf%82-%ce%b1%cf%83%cf%86%ce%ac%ce%bb%ce%b5%ce%b9%ce%b1%cf%82-%cf%84%cf%81%ce%bf%cf%86%ce%af%ce%bc-8/
CATEGORIES:Αίθουσα Συνεδριάσεων
END:VEVENT
END:VCALENDAR