BEGIN:VCALENDAR
VERSION:2.0
PRODID:-//Επιμελητήριο Χίου - ECPv6.15.16//NONSGML v1.0//EN
CALSCALE:GREGORIAN
METHOD:PUBLISH
X-WR-CALNAME:Επιμελητήριο Χίου
X-ORIGINAL-URL:https://www.chioschamber.gr
X-WR-CALDESC:Events for Επιμελητήριο Χίου
REFRESH-INTERVAL;VALUE=DURATION:PT1H
X-Robots-Tag:noindex
X-PUBLISHED-TTL:PT1H
BEGIN:VTIMEZONE
TZID:Europe/Athens
BEGIN:DAYLIGHT
TZOFFSETFROM:+0200
TZOFFSETTO:+0300
TZNAME:EEST
DTSTART:20240331T010000
END:DAYLIGHT
BEGIN:STANDARD
TZOFFSETFROM:+0300
TZOFFSETTO:+0200
TZNAME:EET
DTSTART:20241027T010000
END:STANDARD
BEGIN:DAYLIGHT
TZOFFSETFROM:+0200
TZOFFSETTO:+0300
TZNAME:EEST
DTSTART:20250330T010000
END:DAYLIGHT
BEGIN:STANDARD
TZOFFSETFROM:+0300
TZOFFSETTO:+0200
TZNAME:EET
DTSTART:20251026T010000
END:STANDARD
BEGIN:DAYLIGHT
TZOFFSETFROM:+0200
TZOFFSETTO:+0300
TZNAME:EEST
DTSTART:20260329T010000
END:DAYLIGHT
BEGIN:STANDARD
TZOFFSETFROM:+0300
TZOFFSETTO:+0200
TZNAME:EET
DTSTART:20261025T010000
END:STANDARD
END:VTIMEZONE
BEGIN:VEVENT
DTSTART;VALUE=DATE:20250704
DTEND;VALUE=DATE:20250912
DTSTAMP:20260419T152622
CREATED:20250702T070112Z
LAST-MODIFIED:20250731T082409Z
UID:45301-1751587200-1757635199@www.chioschamber.gr
SUMMARY:Limani Open Market
DESCRIPTION:Έκθεση τοπικών προϊόντων στον Κεντρικό Λιμένα της Χίου. \nΩράριο λειτουργίας: 19:00-23:00 Καθημερινές & Σαββατοκύριακα
URL:https://www.chioschamber.gr/event/limani-open-market/
CATEGORIES:Συνεδριάσεις - Συναντήσεις - Εκδηλώσεις
END:VEVENT
BEGIN:VEVENT
DTSTART;TZID=Europe/Athens:20250902T190000
DTEND;TZID=Europe/Athens:20250902T210000
DTSTAMP:20260419T152622
CREATED:20250825T070314Z
LAST-MODIFIED:20250825T070314Z
UID:45596-1756839600-1756846800@www.chioschamber.gr
SUMMARY:Συνάντηση εργασίας με θέμα "Ζητήματα Νομοθετικής Συμμόρφωσης για την εισαγωγή προϊόντων στις ΗΠΑ"
DESCRIPTION:Το Κέντρο Έρευνας Μαστίχας\, σε συνεργασία με την Endeavor Greece και υπό την αιγίδα του Επιμελητηρίου Χίου\, διοργανώνει συνάντηση εργασίας με θέμα: «Ζητήματα Νομοθετικής Συμμόρφωσης για την Εισαγωγή Προϊόντων στις Η.Π.Α.» \nΗ εκδήλωση θα πραγματοποιηθεί την Τρίτη 2 Σεπτεμβρίου 2025 και ώρα 19:00\, στο Κέντρο Έρευνας Μαστίχας\, Καλλιμασιά. \nΚεντρικός ομιλητής θα είναι ο κ. Frank Yiannas\, πρώην Deputy Commissioner του FDA\, ο οποίος θα μοιραστεί πολύτιμες γνώσεις και εμπειρίες σχετικά με τις διαδικασίες και τις απαιτήσεις για την είσοδο τροφίμων και προϊόντων στις Ηνωμένες Πολιτείες. \n 
URL:https://www.chioschamber.gr/event/%cf%83%cf%85%ce%bd%ce%ac%ce%bd%cf%84%ce%b7%cf%83%ce%b7-%ce%b5%cf%81%ce%b3%ce%b1%cf%83%ce%af%ce%b1%cf%82-%ce%bc%ce%b5-%ce%b8%ce%ad%ce%bc%ce%b1-%ce%b6%ce%b7%cf%84%ce%ae%ce%bc%ce%b1%cf%84%ce%b1-%ce%bd/
CATEGORIES:Συνεδριάσεις - Συναντήσεις - Εκδηλώσεις
END:VEVENT
BEGIN:VEVENT
DTSTART;TZID=Europe/Athens:20250903T103000
DTEND;TZID=Europe/Athens:20250903T113000
DTSTAMP:20260419T152622
CREATED:20250829T070122Z
LAST-MODIFIED:20250901T090227Z
UID:45625-1756895400-1756899000@www.chioschamber.gr
SUMMARY:ΣΥΝΕΝΤΕΥΞΗ ΤΥΠΟΥ ΣΤΟ ΠΛΑΙΣΙΟ ΤΟΥ ENDLESS SUMMER «ΟΚΤΩΒΡΙΟΣ ΣΤΗ ΧΙΟ 3+1 ΖΗΣΕ – ΓΕΥΣΟΥ - ΑΝΑΚΑΛΥΨΕ»
DESCRIPTION:
URL:https://www.chioschamber.gr/event/%cf%83%cf%85%ce%bd%ce%b5%ce%bd%cf%84%ce%b5%cf%85%ce%be%ce%b7-%cf%84%cf%85%cf%80%ce%bf%cf%85-%cf%83%cf%84%ce%bf-%cf%80%ce%bb%ce%b1%ce%b9%cf%83%ce%b9%ce%bf-%cf%84%ce%bf%cf%85-endless-summer-%ce%bf/
CATEGORIES:Αίθουσα Συνεδριάσεων
END:VEVENT
BEGIN:VEVENT
DTSTART;TZID=Europe/Athens:20250922T150000
DTEND;TZID=Europe/Athens:20250922T200000
DTSTAMP:20260419T152622
CREATED:20250805T053838Z
LAST-MODIFIED:20250805T054437Z
UID:45514-1758553200-1758571200@www.chioschamber.gr
SUMMARY:Σεμινάριο Υγιεινής & Ασφάλειας Τροφίμων (Ά μέρος)
DESCRIPTION:
URL:https://www.chioschamber.gr/event/%cf%83%ce%b5%ce%bc%ce%b9%ce%bd%ce%ac%cf%81%ce%b9%ce%bf-%cf%85%ce%b3%ce%b9%ce%b5%ce%b9%ce%bd%ce%ae%cf%82-%ce%b1%cf%83%cf%86%ce%ac%ce%bb%ce%b5%ce%b9%ce%b1%cf%82-%cf%84%cf%81%ce%bf%cf%86%ce%af%ce%bc-5/
CATEGORIES:Γενικές Εκδηλώσεις
END:VEVENT
BEGIN:VEVENT
DTSTART;TZID=Europe/Athens:20250923T170000
DTEND;TZID=Europe/Athens:20250923T200000
DTSTAMP:20260419T152622
CREATED:20250916T052724Z
LAST-MODIFIED:20250916T053329Z
UID:45704-1758646800-1758657600@www.chioschamber.gr
SUMMARY:Φορέας Τουρισμού Χίου
DESCRIPTION:
URL:https://www.chioschamber.gr/event/%cf%86%ce%bf%cf%81%ce%ad%ce%b1%cf%82-%cf%84%ce%bf%cf%85%cf%81%ce%b9%cf%83%ce%bc%ce%bf%cf%8d-%cf%87%ce%af%ce%bf%cf%85-2/
CATEGORIES:Αίθουσα Συνεδριάσεων
END:VEVENT
BEGIN:VEVENT
DTSTART;TZID=Europe/Athens:20250924T150000
DTEND;TZID=Europe/Athens:20250924T200000
DTSTAMP:20260419T152622
CREATED:20250805T053913Z
LAST-MODIFIED:20250805T054615Z
UID:45516-1758726000-1758744000@www.chioschamber.gr
SUMMARY:Σεμινάριο Υγιεινής & Ασφάλειας Τροφίμων (Β' μέρος)
DESCRIPTION:
URL:https://www.chioschamber.gr/event/%cf%83%ce%b5%ce%bc%ce%b9%ce%bd%ce%ac%cf%81%ce%b9%ce%bf-%cf%85%ce%b3%ce%b9%ce%b5%ce%b9%ce%bd%ce%ae%cf%82-%ce%b1%cf%83%cf%86%ce%ac%ce%bb%ce%b5%ce%b9%ce%b1%cf%82-%cf%84%cf%81%ce%bf%cf%86%ce%af%ce%bc-6/
CATEGORIES:Γενικές Εκδηλώσεις
END:VEVENT
BEGIN:VEVENT
DTSTART;TZID=Europe/Athens:20250929T150000
DTEND;TZID=Europe/Athens:20250929T200000
DTSTAMP:20260419T152622
CREATED:20250805T054000Z
LAST-MODIFIED:20250805T054533Z
UID:45518-1759158000-1759176000@www.chioschamber.gr
SUMMARY:Σεμινάριο Τεχνικού Ασφαλείας Γ' Κατηγορίας (Α' μέρος)
DESCRIPTION:
URL:https://www.chioschamber.gr/event/%cf%83%ce%b5%ce%bc%ce%b9%ce%bd%ce%ac%cf%81%ce%b9%ce%bf-%cf%84%ce%b5%cf%87%ce%bd%ce%b9%ce%ba%ce%bf%cf%8d-%ce%b1%cf%83%cf%86%ce%b1%ce%bb%ce%b5%ce%af%ce%b1%cf%82-%ce%b3-%ce%ba%ce%b1%cf%84%ce%b7%ce%b3-6/
CATEGORIES:Γενικές Εκδηλώσεις
END:VEVENT
END:VCALENDAR