BEGIN:VCALENDAR
VERSION:2.0
PRODID:-//Επιμελητήριο Χίου - ECPv6.15.16//NONSGML v1.0//EN
CALSCALE:GREGORIAN
METHOD:PUBLISH
X-WR-CALNAME:Επιμελητήριο Χίου
X-ORIGINAL-URL:https://www.chioschamber.gr
X-WR-CALDESC:Events for Επιμελητήριο Χίου
REFRESH-INTERVAL;VALUE=DURATION:PT1H
X-Robots-Tag:noindex
X-PUBLISHED-TTL:PT1H
BEGIN:VTIMEZONE
TZID:Europe/Athens
BEGIN:DAYLIGHT
TZOFFSETFROM:+0200
TZOFFSETTO:+0300
TZNAME:EEST
DTSTART:20210328T010000
END:DAYLIGHT
BEGIN:STANDARD
TZOFFSETFROM:+0300
TZOFFSETTO:+0200
TZNAME:EET
DTSTART:20211031T010000
END:STANDARD
BEGIN:DAYLIGHT
TZOFFSETFROM:+0200
TZOFFSETTO:+0300
TZNAME:EEST
DTSTART:20220327T010000
END:DAYLIGHT
BEGIN:STANDARD
TZOFFSETFROM:+0300
TZOFFSETTO:+0200
TZNAME:EET
DTSTART:20221030T010000
END:STANDARD
BEGIN:DAYLIGHT
TZOFFSETFROM:+0200
TZOFFSETTO:+0300
TZNAME:EEST
DTSTART:20230326T010000
END:DAYLIGHT
BEGIN:STANDARD
TZOFFSETFROM:+0300
TZOFFSETTO:+0200
TZNAME:EET
DTSTART:20231029T010000
END:STANDARD
END:VTIMEZONE
BEGIN:VEVENT
DTSTART;TZID=Europe/Athens:20220316T150000
DTEND;TZID=Europe/Athens:20220316T170000
DTSTAMP:20260420T080322
CREATED:20220310T114938Z
LAST-MODIFIED:20250516T101007Z
UID:18897-1647442800-1647450000@www.chioschamber.gr
SUMMARY:ΓΣ ΣΥΛΛΟΓΟΥ ΙΔΙΟΚΤΗΤΩΝ ΚΑΤΑΣΤ. ΥΓΕΙΟΝΟΜΙΚΟΥ ΕΝΔ. ΑΠΟ 15:00 ΈΩΣ 17:00
DESCRIPTION:ΓΣ ΣΥΛΛΟΓΟΥ ΙΔΙΟΚΤΗΤΩΝ ΚΑΤΑΣΤ. ΥΓΕΙΟΝΟΜΙΚΟΥ ΕΝΔ. ΑΠΟ 15:00 ΈΩΣ 17:00.
URL:https://www.chioschamber.gr/event/%ce%b3%cf%83-%cf%83%cf%85%ce%bb%ce%bb%ce%bf%ce%b3%ce%bf%cf%85-%ce%b9%ce%b4%ce%b9%ce%bf%ce%ba%cf%84%ce%b7%cf%84%cf%89%ce%bd-%ce%ba%ce%b1%cf%84%ce%b1%cf%83%cf%84-%cf%85%ce%b3%ce%b5%ce%b9%ce%bf%ce%bd/
CATEGORIES:Γενικές Εκδηλώσεις
END:VEVENT
BEGIN:VEVENT
DTSTART;TZID=Europe/Athens:20220302T180000
DTEND;TZID=Europe/Athens:20220302T180000
DTSTAMP:20260420T080322
CREATED:20220301T113049Z
LAST-MODIFIED:20250516T101000Z
UID:18889-1646244000-1646244000@www.chioschamber.gr
SUMMARY:ΔΣ ΦΟΡΕΑ ΤΟΥΡΙΣΜΟΥ ΣΤΙΣ 18:00
DESCRIPTION:ΔΣ ΦΟΡΕΑ ΤΟΥΡΙΣΜΟΥ ΣΤΙΣ 18:00
URL:https://www.chioschamber.gr/event/%ce%b4%cf%83-%cf%86%ce%bf%cf%81%ce%b5%ce%b1-%cf%84%ce%bf%cf%85%cf%81%ce%b9%cf%83%ce%bc%ce%bf%cf%85-%cf%83%cf%84%ce%b9%cf%83-1800/
CATEGORIES:Γενικές Εκδηλώσεις
END:VEVENT
BEGIN:VEVENT
DTSTART;TZID=Europe/Athens:20220210T140000
DTEND;TZID=Europe/Athens:20220210T143000
DTSTAMP:20260420T080322
CREATED:20220209T112637Z
LAST-MODIFIED:20250516T100931Z
UID:18887-1644501600-1644503400@www.chioschamber.gr
SUMMARY:Αρχαιρεσίες _Σύνδεσμος Κουρέων Κομμωτών Ν.Χίου
DESCRIPTION:Αρχαιρεσίες _Σύνδεσμος Κουρέων Κομμωτών Ν.Χίου 14:00 -14:30
URL:https://www.chioschamber.gr/event/%ce%b1%cf%81%cf%87%ce%b1%ce%b9%cf%81%ce%b5%cf%83%ce%af%ce%b5%cf%82-_%cf%83%cf%8d%ce%bd%ce%b4%ce%b5%cf%83%ce%bc%ce%bf%cf%82-%ce%ba%ce%bf%cf%85%cf%81%ce%ad%cf%89%ce%bd-%ce%ba%ce%bf%ce%bc%ce%bc%cf%89/
CATEGORIES:Γενικές Εκδηλώσεις
END:VEVENT
BEGIN:VEVENT
DTSTART;TZID=Europe/Athens:20220209T140000
DTEND;TZID=Europe/Athens:20220209T170000
DTSTAMP:20260420T080322
CREATED:20220207T112442Z
LAST-MODIFIED:20250516T100924Z
UID:18885-1644415200-1644426000@www.chioschamber.gr
SUMMARY:Σύνδεσμος Κουρέων Κομμωτών Ν.Χίου -Aρχαιρεσίες
DESCRIPTION:Σύνδεσμος Κουρέων Κομμωτών Ν.Χίου -Aρχαιρεσίες 14:00 έως 17:00
URL:https://www.chioschamber.gr/event/%cf%83%cf%8d%ce%bd%ce%b4%ce%b5%cf%83%ce%bc%ce%bf%cf%82-%ce%ba%ce%bf%cf%85%cf%81%ce%ad%cf%89%ce%bd-%ce%ba%ce%bf%ce%bc%ce%bc%cf%89%cf%84%cf%8e%ce%bd-%ce%bd-%cf%87%ce%af%ce%bf%cf%85-a%cf%81%cf%87%ce%b1/
CATEGORIES:Γενικές Εκδηλώσεις
END:VEVENT
BEGIN:VEVENT
DTSTART;TZID=Europe/Athens:20220202T153000
DTEND;TZID=Europe/Athens:20220202T203000
DTSTAMP:20260420T080322
CREATED:20220112T111536Z
LAST-MODIFIED:20250516T100953Z
UID:18879-1643815800-1643833800@www.chioschamber.gr
SUMMARY:Σεμινάριο Υγιεινής & Ασφάλειας Τροφίμων (ΕΦΕΤ) 15:30 -20:30
DESCRIPTION:Σεμινάριο Υγιεινής & Ασφάλειας Τροφίμων (ΕΦΕΤ) 15:30 -20:30 -(Τμήμα 4ο – Σεμινάριο 2ο)
URL:https://www.chioschamber.gr/event/%cf%83%ce%b5%ce%bc%ce%b9%ce%bd%ce%ac%cf%81%ce%b9%ce%bf-%cf%85%ce%b3%ce%b9%ce%b5%ce%b9%ce%bd%ce%ae%cf%82-%ce%b1%cf%83%cf%86%ce%ac%ce%bb%ce%b5%ce%b9%ce%b1%cf%82-%cf%84%cf%81%ce%bf%cf%86%ce%af%ce%bc-2/
CATEGORIES:Γενικές Εκδηλώσεις
END:VEVENT
BEGIN:VEVENT
DTSTART;TZID=Europe/Athens:20220131T190000
DTEND;TZID=Europe/Athens:20220131T210000
DTSTAMP:20260420T080322
CREATED:20220128T112227Z
LAST-MODIFIED:20250516T102629Z
UID:18883-1643655600-1643662800@www.chioschamber.gr
SUMMARY:ΔΣ ΙΔ.ΦΟΡΕΑ ΤΟΥΡΙΣΜΟΥ ΑΠΟ 19:00 ΕΩΣ 21:00
DESCRIPTION:ΔΣ ΙΔ.ΦΟΡΕΑ ΤΟΥΡΙΣΜΟΥ ΑΠΟ 19:00 ΕΩΣ 21:00
URL:https://www.chioschamber.gr/event/%ce%b4%cf%83-%ce%b9%ce%b4-%cf%86%ce%bf%cf%81%ce%b5%ce%b1-%cf%84%ce%bf%cf%85%cf%81%ce%b9%cf%83%ce%bc%ce%bf%cf%85-%ce%b1%cf%80%ce%bf-1900-%ce%b5%cf%89%cf%83-2100/
CATEGORIES:Γενικές Εκδηλώσεις
END:VEVENT
BEGIN:VEVENT
DTSTART;VALUE=DATE:20220131
DTEND;VALUE=DATE:20220201
DTSTAMP:20260420T080322
CREATED:20220128T112047Z
LAST-MODIFIED:20250516T100945Z
UID:18881-1643587200-1643673599@www.chioschamber.gr
SUMMARY:Ανοικτό Κέντρο Εμπορίου Δήμου Χίου: Συνέντευξη Τύπου
DESCRIPTION:Ανοικτό Κέντρο Εμπορίου Δήμου Χίου: Συνέντευξη Τύπου
URL:https://www.chioschamber.gr/event/%ce%b1%ce%bd%ce%bf%ce%b9%ce%ba%cf%84%cf%8c-%ce%ba%ce%ad%ce%bd%cf%84%cf%81%ce%bf-%ce%b5%ce%bc%cf%80%ce%bf%cf%81%ce%af%ce%bf%cf%85-%ce%b4%ce%ae%ce%bc%ce%bf%cf%85-%cf%87%ce%af%ce%bf%cf%85-%cf%83%cf%85/
CATEGORIES:Γενικές Εκδηλώσεις
END:VEVENT
BEGIN:VEVENT
DTSTART;TZID=Europe/Athens:20220126T153000
DTEND;TZID=Europe/Athens:20220126T203000
DTSTAMP:20260420T080322
CREATED:20220112T110315Z
LAST-MODIFIED:20250516T100939Z
UID:18877-1643211000-1643229000@www.chioschamber.gr
SUMMARY:Σεμινάριο Υγιεινής & Ασφάλειας Τροφίμων (ΕΦΕΤ) 15:30 -20:30
DESCRIPTION:Σεμινάριο Υγιεινής & Ασφάλειας Τροφίμων (ΕΦΕΤ) 15:30 -20:30  (Τμήμα 4ο – Σεμινάριο 1ο).
URL:https://www.chioschamber.gr/event/%cf%83%ce%b5%ce%bc%ce%b9%ce%bd%ce%ac%cf%81%ce%b9%ce%bf-%cf%85%ce%b3%ce%b9%ce%b5%ce%b9%ce%bd%ce%ae%cf%82-%ce%b1%cf%83%cf%86%ce%ac%ce%bb%ce%b5%ce%b9%ce%b1%cf%82-%cf%84%cf%81%ce%bf%cf%86%ce%af%ce%bc/
CATEGORIES:Γενικές Εκδηλώσεις
END:VEVENT
END:VCALENDAR