BEGIN:VCALENDAR
VERSION:2.0
PRODID:-//Επιμελητήριο Χίου - ECPv6.15.16//NONSGML v1.0//EN
CALSCALE:GREGORIAN
METHOD:PUBLISH
X-WR-CALNAME:Επιμελητήριο Χίου
X-ORIGINAL-URL:https://www.chioschamber.gr
X-WR-CALDESC:Events for Επιμελητήριο Χίου
REFRESH-INTERVAL;VALUE=DURATION:PT1H
X-Robots-Tag:noindex
X-PUBLISHED-TTL:PT1H
BEGIN:VTIMEZONE
TZID:Europe/Athens
BEGIN:DAYLIGHT
TZOFFSETFROM:+0200
TZOFFSETTO:+0300
TZNAME:EEST
DTSTART:20240331T010000
END:DAYLIGHT
BEGIN:STANDARD
TZOFFSETFROM:+0300
TZOFFSETTO:+0200
TZNAME:EET
DTSTART:20241027T010000
END:STANDARD
BEGIN:DAYLIGHT
TZOFFSETFROM:+0200
TZOFFSETTO:+0300
TZNAME:EEST
DTSTART:20250330T010000
END:DAYLIGHT
BEGIN:STANDARD
TZOFFSETFROM:+0300
TZOFFSETTO:+0200
TZNAME:EET
DTSTART:20251026T010000
END:STANDARD
BEGIN:DAYLIGHT
TZOFFSETFROM:+0200
TZOFFSETTO:+0300
TZNAME:EEST
DTSTART:20260329T010000
END:DAYLIGHT
BEGIN:STANDARD
TZOFFSETFROM:+0300
TZOFFSETTO:+0200
TZNAME:EET
DTSTART:20261025T010000
END:STANDARD
END:VTIMEZONE
BEGIN:VEVENT
DTSTART;VALUE=DATE:20250317
DTEND;VALUE=DATE:20250318
DTSTAMP:20260422T062240
CREATED:20250306T112035Z
LAST-MODIFIED:20250516T100759Z
UID:44196-1742169600-1742255999@www.chioschamber.gr
SUMMARY:Διεξαγωγή εκπαιδευτικού προγράμματος με θέμα: «Menu Design & Development: Από την ιδέα στην Υλοποίηση με Στρατηγική και Βιωσιμότητα».
DESCRIPTION:Το Επιμελητήριο Χίου σε συνεργασία με το Σωματείο Ιδιοκτητών Καταστημάτων Υγειονομικού Ενδιαφέροντος προτίθεται να διεξαγάγει εκπαιδευτικό πρόγραμμα με θέμα: «Menu Design & Development: Από την ιδέα στην Υλοποίηση με Στρατηγική και Βιωσιμότητα». \nΤο εκπαιδευτικό πρόγραμμα απευθύνεται σε ιδιοκτήτες και στελέχη επισιτιστικών επιχειρήσεων. \nΗμερομηνία Διεξαγωγής : Δευτέρα 17 Μαρτίου 2025 \nΤόπος Διεξαγωγής: Αίθουσα Συνεδριάσεων Επιμελητηρίου Χίου\, Φιλ. Αργέντη 8\, 1ος Όροφος \nΔιάρκεια: 8 ώρες (για την ώρα έναρξης θα ενημερωθείτε) \nΠροϋποθέσεις  και κόστος συμμετοχής: 25 ευρώ για το ταμειακά ενήμερο μέλος (έτος 2024) \n80 ευρώ για το μη ταμειακά ενήμερο μέλος(έτος 2024) \nΜέγιστος αριθμός συμμετεχόντων: 25 άτομα \nΘα τηρηθεί σειρά προτεραιότητας \nΣυμπληρώστε τη δήλωση συμμετοχής στον ακόλουθο σύνδεσμο: \nhttps://forms.gle/gywuv4PUBD8Fd5QW6
URL:https://www.chioschamber.gr/event/%ce%b4%ce%b9%ce%b5%ce%be%ce%b1%ce%b3%cf%89%ce%b3%ce%ae-%ce%b5%ce%ba%cf%80%ce%b1%ce%b9%ce%b4%ce%b5%cf%85%cf%84%ce%b9%ce%ba%ce%bf%cf%8d-%cf%80%cf%81%ce%bf%ce%b3%cf%81%ce%ac%ce%bc%ce%bc%ce%b1%cf%84%ce%bf/
CATEGORIES:Γενικές Εκδηλώσεις
ATTACH;FMTTYPE=image/jpeg:https://www.chioschamber.gr/wp-content/uploads/2025/03/Γραφιστικό.jpg
END:VEVENT
BEGIN:VEVENT
DTSTART;VALUE=DATE:20250317
DTEND;VALUE=DATE:20250318
DTSTAMP:20260422T062240
CREATED:20250415T103632Z
LAST-MODIFIED:20250516T100318Z
UID:44559-1742169600-1742255999@www.chioschamber.gr
SUMMARY:Σεμινάριο με θέμα: «Menu Design & Development: Από την ιδέα στην Υλοποίηση με Στρατηγική και Βιωσιμότητα»
DESCRIPTION:
URL:https://www.chioschamber.gr/event/%cf%83%ce%b5%ce%bc%ce%b9%ce%bd%ce%ac%cf%81%ce%b9%ce%bf-%ce%bc%ce%b5-%ce%b8%ce%ad%ce%bc%ce%b1-menu-design-development-%ce%b1%cf%80%cf%8c-%cf%84%ce%b7%ce%bd-%ce%b9%ce%b4%ce%ad%ce%b1-%cf%83/
CATEGORIES:Γενικές Εκδηλώσεις
END:VEVENT
BEGIN:VEVENT
DTSTART;TZID=Europe/Athens:20250317T190000
DTEND;TZID=Europe/Athens:20250317T200000
DTSTAMP:20260422T062240
CREATED:20250415T103707Z
LAST-MODIFIED:20250516T100318Z
UID:44561-1742238000-1742241600@www.chioschamber.gr
SUMMARY:Εμπορικός Σύλλογος Χίου
DESCRIPTION:
URL:https://www.chioschamber.gr/event/%ce%b5%ce%bc%cf%80%ce%bf%cf%81%ce%b9%ce%ba%cf%8c%cf%82-%cf%83%cf%8d%ce%bb%ce%bb%ce%bf%ce%b3%ce%bf%cf%82-%cf%87%ce%af%ce%bf%cf%85-5/
CATEGORIES:Γενικές Εκδηλώσεις
END:VEVENT
END:VCALENDAR