BEGIN:VCALENDAR
VERSION:2.0
PRODID:-//Επιμελητήριο Χίου - ECPv6.15.16//NONSGML v1.0//EN
CALSCALE:GREGORIAN
METHOD:PUBLISH
X-ORIGINAL-URL:https://www.chioschamber.gr
X-WR-CALDESC:Events for Επιμελητήριο Χίου
REFRESH-INTERVAL;VALUE=DURATION:PT1H
X-Robots-Tag:noindex
X-PUBLISHED-TTL:PT1H
BEGIN:VTIMEZONE
TZID:Europe/Athens
BEGIN:DAYLIGHT
TZOFFSETFROM:+0200
TZOFFSETTO:+0300
TZNAME:EEST
DTSTART:20240331T010000
END:DAYLIGHT
BEGIN:STANDARD
TZOFFSETFROM:+0300
TZOFFSETTO:+0200
TZNAME:EET
DTSTART:20241027T010000
END:STANDARD
BEGIN:DAYLIGHT
TZOFFSETFROM:+0200
TZOFFSETTO:+0300
TZNAME:EEST
DTSTART:20250330T010000
END:DAYLIGHT
BEGIN:STANDARD
TZOFFSETFROM:+0300
TZOFFSETTO:+0200
TZNAME:EET
DTSTART:20251026T010000
END:STANDARD
BEGIN:DAYLIGHT
TZOFFSETFROM:+0200
TZOFFSETTO:+0300
TZNAME:EEST
DTSTART:20260329T010000
END:DAYLIGHT
BEGIN:STANDARD
TZOFFSETFROM:+0300
TZOFFSETTO:+0200
TZNAME:EET
DTSTART:20261025T010000
END:STANDARD
END:VTIMEZONE
BEGIN:VEVENT
DTSTART;TZID=Europe/Athens:20250226T160000
DTEND;TZID=Europe/Athens:20250226T170000
DTSTAMP:20260422T062503
CREATED:20250415T102710Z
LAST-MODIFIED:20250516T100319Z
UID:44542-1740585600-1740589200@www.chioschamber.gr
SUMMARY:Τμήμα Μεταποίησης Επιμελητηρίου Χίου
DESCRIPTION:Υπεύθυνος επικ: \nΣταμάτης Μούνδρος
URL:https://www.chioschamber.gr/event/%cf%84%ce%bc%ce%ae%ce%bc%ce%b1-%ce%bc%ce%b5%cf%84%ce%b1%cf%80%ce%bf%ce%af%ce%b7%cf%83%ce%b7%cf%82-%ce%b5%cf%80%ce%b9%ce%bc%ce%b5%ce%bb%ce%b7%cf%84%ce%b7%cf%81%ce%af%ce%bf%cf%85-%cf%87%ce%af%ce%bf-2/
CATEGORIES:Γενικές Εκδηλώσεις
END:VEVENT
BEGIN:VEVENT
DTSTART;TZID=Europe/Athens:20250226T180000
DTEND;TZID=Europe/Athens:20250226T200000
DTSTAMP:20260422T062503
CREATED:20250415T102751Z
LAST-MODIFIED:20250516T100318Z
UID:44544-1740592800-1740600000@www.chioschamber.gr
SUMMARY:Γενική Συνέλευση Εμπορικού Συλλόγου Χίου
DESCRIPTION:Υπεύθυνος επικ: \nΚιοσκεριάν Πέτρος
URL:https://www.chioschamber.gr/event/%ce%b3%ce%b5%ce%bd%ce%b9%ce%ba%ce%ae-%cf%83%cf%85%ce%bd%ce%ad%ce%bb%ce%b5%cf%85%cf%83%ce%b7-%ce%b5%ce%bc%cf%80%ce%bf%cf%81%ce%b9%ce%ba%ce%bf%cf%8d-%cf%83%cf%85%ce%bb%ce%bb%cf%8c%ce%b3%ce%bf%cf%85-2/
CATEGORIES:Γενικές Εκδηλώσεις
END:VEVENT
END:VCALENDAR