BEGIN:VCALENDAR
VERSION:2.0
PRODID:-//Επιμελητήριο Χίου - ECPv6.15.16//NONSGML v1.0//EN
CALSCALE:GREGORIAN
METHOD:PUBLISH
X-WR-CALNAME:Επιμελητήριο Χίου
X-ORIGINAL-URL:https://www.chioschamber.gr
X-WR-CALDESC:Events for Επιμελητήριο Χίου
REFRESH-INTERVAL;VALUE=DURATION:PT1H
X-Robots-Tag:noindex
X-PUBLISHED-TTL:PT1H
BEGIN:VTIMEZONE
TZID:Europe/Athens
BEGIN:DAYLIGHT
TZOFFSETFROM:+0200
TZOFFSETTO:+0300
TZNAME:EEST
DTSTART:20240331T010000
END:DAYLIGHT
BEGIN:STANDARD
TZOFFSETFROM:+0300
TZOFFSETTO:+0200
TZNAME:EET
DTSTART:20241027T010000
END:STANDARD
BEGIN:DAYLIGHT
TZOFFSETFROM:+0200
TZOFFSETTO:+0300
TZNAME:EEST
DTSTART:20250330T010000
END:DAYLIGHT
BEGIN:STANDARD
TZOFFSETFROM:+0300
TZOFFSETTO:+0200
TZNAME:EET
DTSTART:20251026T010000
END:STANDARD
BEGIN:DAYLIGHT
TZOFFSETFROM:+0200
TZOFFSETTO:+0300
TZNAME:EEST
DTSTART:20260329T010000
END:DAYLIGHT
BEGIN:STANDARD
TZOFFSETFROM:+0300
TZOFFSETTO:+0200
TZNAME:EET
DTSTART:20261025T010000
END:STANDARD
END:VTIMEZONE
BEGIN:VEVENT
DTSTART;TZID=Europe/Athens:20250219T173000
DTEND;TZID=Europe/Athens:20250219T203000
DTSTAMP:20260422T074922
CREATED:20250415T102633Z
LAST-MODIFIED:20250516T100319Z
UID:44540-1739986200-1739997000@www.chioschamber.gr
SUMMARY:Σύλλογος Εμπόρων Οικοδομικών Υλικών
DESCRIPTION:Υπεύθυνος επικ: \nΞύδας Μιχάλης
URL:https://www.chioschamber.gr/event/%cf%83%cf%8d%ce%bb%ce%bb%ce%bf%ce%b3%ce%bf%cf%82-%ce%b5%ce%bc%cf%80%cf%8c%cf%81%cf%89%ce%bd-%ce%bf%ce%b9%ce%ba%ce%bf%ce%b4%ce%bf%ce%bc%ce%b9%ce%ba%cf%8e%ce%bd-%cf%85%ce%bb%ce%b9%ce%ba%cf%8e%ce%bd/
CATEGORIES:Γενικές Εκδηλώσεις
END:VEVENT
END:VCALENDAR