BEGIN:VCALENDAR
VERSION:2.0
PRODID:-//Επιμελητήριο Χίου - ECPv6.15.16//NONSGML v1.0//EN
CALSCALE:GREGORIAN
METHOD:PUBLISH
X-WR-CALNAME:Επιμελητήριο Χίου
X-ORIGINAL-URL:https://www.chioschamber.gr
X-WR-CALDESC:Events for Επιμελητήριο Χίου
REFRESH-INTERVAL;VALUE=DURATION:PT1H
X-Robots-Tag:noindex
X-PUBLISHED-TTL:PT1H
BEGIN:VTIMEZONE
TZID:Europe/Athens
BEGIN:DAYLIGHT
TZOFFSETFROM:+0200
TZOFFSETTO:+0300
TZNAME:EEST
DTSTART:20240331T010000
END:DAYLIGHT
BEGIN:STANDARD
TZOFFSETFROM:+0300
TZOFFSETTO:+0200
TZNAME:EET
DTSTART:20241027T010000
END:STANDARD
BEGIN:DAYLIGHT
TZOFFSETFROM:+0200
TZOFFSETTO:+0300
TZNAME:EEST
DTSTART:20250330T010000
END:DAYLIGHT
BEGIN:STANDARD
TZOFFSETFROM:+0300
TZOFFSETTO:+0200
TZNAME:EET
DTSTART:20251026T010000
END:STANDARD
BEGIN:DAYLIGHT
TZOFFSETFROM:+0200
TZOFFSETTO:+0300
TZNAME:EEST
DTSTART:20260329T010000
END:DAYLIGHT
BEGIN:STANDARD
TZOFFSETFROM:+0300
TZOFFSETTO:+0200
TZNAME:EET
DTSTART:20261025T010000
END:STANDARD
END:VTIMEZONE
BEGIN:VEVENT
DTSTART;TZID=Europe/Athens:20250210T170000
DTEND;TZID=Europe/Athens:20250210T170000
DTSTAMP:20260422T074922
CREATED:20250110T085652Z
LAST-MODIFIED:20250516T101723Z
UID:43603-1739206800-1739206800@www.chioschamber.gr
SUMMARY:Γενική Συνέλευση Αναπτυξιακής Εταιρείας Επιμελητηρίου Χίου
DESCRIPTION:
URL:https://www.chioschamber.gr/event/%ce%b3%ce%b5%ce%bd%ce%b9%ce%ba%ce%ae-%cf%83%cf%85%ce%bd%ce%ad%ce%bb%ce%b5%cf%85%cf%83%ce%b7-%ce%b1%ce%bd%ce%b1%cf%80%cf%84%cf%85%ce%be%ce%b9%ce%b1%ce%ba%ce%ae%cf%82-%ce%b5%cf%84%ce%b1%ce%b9%cf%81-2/
CATEGORIES:Γενικές Εκδηλώσεις
END:VEVENT
BEGIN:VEVENT
DTSTART;TZID=Europe/Athens:20250210T170000
DTEND;TZID=Europe/Athens:20250210T190000
DTSTAMP:20260422T074922
CREATED:20250415T102211Z
LAST-MODIFIED:20250516T100319Z
UID:44532-1739206800-1739214000@www.chioschamber.gr
SUMMARY:Γενική Συνέλευση Αναπτυξιακής Εταιρείας
DESCRIPTION:
URL:https://www.chioschamber.gr/event/%ce%b3%ce%b5%ce%bd%ce%b9%ce%ba%ce%ae-%cf%83%cf%85%ce%bd%ce%ad%ce%bb%ce%b5%cf%85%cf%83%ce%b7-%ce%b1%ce%bd%ce%b1%cf%80%cf%84%cf%85%ce%be%ce%b9%ce%b1%ce%ba%ce%ae%cf%82-%ce%b5%cf%84%ce%b1%ce%b9%cf%81-3/
CATEGORIES:Γενικές Εκδηλώσεις
END:VEVENT
END:VCALENDAR