BEGIN:VCALENDAR
VERSION:2.0
PRODID:-//Επιμελητήριο Χίου - ECPv6.15.16//NONSGML v1.0//EN
CALSCALE:GREGORIAN
METHOD:PUBLISH
X-ORIGINAL-URL:https://www.chioschamber.gr
X-WR-CALDESC:Events for Επιμελητήριο Χίου
REFRESH-INTERVAL;VALUE=DURATION:PT1H
X-Robots-Tag:noindex
X-PUBLISHED-TTL:PT1H
BEGIN:VTIMEZONE
TZID:Europe/Athens
BEGIN:DAYLIGHT
TZOFFSETFROM:+0200
TZOFFSETTO:+0300
TZNAME:EEST
DTSTART:20240331T010000
END:DAYLIGHT
BEGIN:STANDARD
TZOFFSETFROM:+0300
TZOFFSETTO:+0200
TZNAME:EET
DTSTART:20241027T010000
END:STANDARD
BEGIN:DAYLIGHT
TZOFFSETFROM:+0200
TZOFFSETTO:+0300
TZNAME:EEST
DTSTART:20250330T010000
END:DAYLIGHT
BEGIN:STANDARD
TZOFFSETFROM:+0300
TZOFFSETTO:+0200
TZNAME:EET
DTSTART:20251026T010000
END:STANDARD
BEGIN:DAYLIGHT
TZOFFSETFROM:+0200
TZOFFSETTO:+0300
TZNAME:EEST
DTSTART:20260329T010000
END:DAYLIGHT
BEGIN:STANDARD
TZOFFSETFROM:+0300
TZOFFSETTO:+0200
TZNAME:EET
DTSTART:20261025T010000
END:STANDARD
END:VTIMEZONE
BEGIN:VEVENT
DTSTART;TZID=Europe/Athens:20250203T083000
DTEND;TZID=Europe/Athens:20250203T100000
DTSTAMP:20260422T075314
CREATED:20250415T101731Z
LAST-MODIFIED:20250516T100319Z
UID:44522-1738571400-1738576800@www.chioschamber.gr
SUMMARY:Συνάντηση εργασίας στο πλαίσιο των ΒΑΑ
DESCRIPTION:
URL:https://www.chioschamber.gr/event/%cf%83%cf%85%ce%bd%ce%ac%ce%bd%cf%84%ce%b7%cf%83%ce%b7-%ce%b5%cf%81%ce%b3%ce%b1%cf%83%ce%af%ce%b1%cf%82-%cf%83%cf%84%ce%bf-%cf%80%ce%bb%ce%b1%ce%af%cf%83%ce%b9%ce%bf-%cf%84%cf%89%ce%bd-%ce%b2%ce%b1/
CATEGORIES:Γενικές Εκδηλώσεις
END:VEVENT
BEGIN:VEVENT
DTSTART;TZID=Europe/Athens:20250203T180000
DTEND;TZID=Europe/Athens:20250203T200000
DTSTAMP:20260422T075314
CREATED:20250415T101824Z
LAST-MODIFIED:20250516T100319Z
UID:44524-1738605600-1738612800@www.chioschamber.gr
SUMMARY:Συνάντηση με ιδ. Πρατηρίων Υγρών Καυσίμων
DESCRIPTION:Υπεύθυνος επικ: Μάρκος Γεωργούλης
URL:https://www.chioschamber.gr/event/%cf%83%cf%85%ce%bd%ce%ac%ce%bd%cf%84%ce%b7%cf%83%ce%b7-%ce%bc%ce%b5-%ce%b9%ce%b4-%cf%80%cf%81%ce%b1%cf%84%ce%b7%cf%81%ce%af%cf%89%ce%bd-%cf%85%ce%b3%cf%81%cf%8e%ce%bd-%ce%ba%ce%b1%cf%85%cf%83%ce%af/
CATEGORIES:Γενικές Εκδηλώσεις
END:VEVENT
END:VCALENDAR