BEGIN:VCALENDAR
VERSION:2.0
PRODID:-//Επιμελητήριο Χίου - ECPv6.15.16//NONSGML v1.0//EN
CALSCALE:GREGORIAN
METHOD:PUBLISH
X-ORIGINAL-URL:https://www.chioschamber.gr
X-WR-CALDESC:Events for Επιμελητήριο Χίου
REFRESH-INTERVAL;VALUE=DURATION:PT1H
X-Robots-Tag:noindex
X-PUBLISHED-TTL:PT1H
BEGIN:VTIMEZONE
TZID:Europe/Athens
BEGIN:DAYLIGHT
TZOFFSETFROM:+0200
TZOFFSETTO:+0300
TZNAME:EEST
DTSTART:20230326T010000
END:DAYLIGHT
BEGIN:STANDARD
TZOFFSETFROM:+0300
TZOFFSETTO:+0200
TZNAME:EET
DTSTART:20231029T010000
END:STANDARD
BEGIN:DAYLIGHT
TZOFFSETFROM:+0200
TZOFFSETTO:+0300
TZNAME:EEST
DTSTART:20240331T010000
END:DAYLIGHT
BEGIN:STANDARD
TZOFFSETFROM:+0300
TZOFFSETTO:+0200
TZNAME:EET
DTSTART:20241027T010000
END:STANDARD
BEGIN:DAYLIGHT
TZOFFSETFROM:+0200
TZOFFSETTO:+0300
TZNAME:EEST
DTSTART:20250330T010000
END:DAYLIGHT
BEGIN:STANDARD
TZOFFSETFROM:+0300
TZOFFSETTO:+0200
TZNAME:EET
DTSTART:20251026T010000
END:STANDARD
END:VTIMEZONE
BEGIN:VEVENT
DTSTART;VALUE=DATE:20240907
DTEND;VALUE=DATE:20240916
DTSTAMP:20260422T145454
CREATED:20240822T082908Z
LAST-MODIFIED:20250516T100319Z
UID:42775-1725667200-1726444799@www.chioschamber.gr
SUMMARY:Συμμετοχή του Επιμελητηρίου Χίου στην 88η Διεθνή Έκθεση Θεσσαλονίκης (7-15/9/2024)
DESCRIPTION:Συμμετοχή του Επιμελητηρίου Χίου στην 88η Διεθνή Έκθεση Θεσσαλονίκης (7-15/9/2024)
URL:https://www.chioschamber.gr/event/88%ce%b7-%ce%b4%ce%b9%ce%b5%ce%b8%ce%bd%ce%ae-%ce%ad%ce%ba%ce%b8%ce%b5%cf%83%ce%b7-%ce%b8%ce%b5%cf%83%cf%83%ce%b1%ce%bb%ce%bf%ce%bd%ce%af%ce%ba%ce%b7%cf%82-9-15-9-2024/
LOCATION:Διεθνές Εκθεσιακό & Συνεδριακό Κέντρο Θεσσαλονίκης\, Εγνατία 154\, Ελλάδα
CATEGORIES:Γενικές Εκδηλώσεις
END:VEVENT
END:VCALENDAR