BEGIN:VCALENDAR
VERSION:2.0
PRODID:-//Επιμελητήριο Χίου - ECPv6.15.16//NONSGML v1.0//EN
CALSCALE:GREGORIAN
METHOD:PUBLISH
X-ORIGINAL-URL:https://www.chioschamber.gr
X-WR-CALDESC:Events for Επιμελητήριο Χίου
REFRESH-INTERVAL;VALUE=DURATION:PT1H
X-Robots-Tag:noindex
X-PUBLISHED-TTL:PT1H
BEGIN:VTIMEZONE
TZID:Europe/Athens
BEGIN:DAYLIGHT
TZOFFSETFROM:+0200
TZOFFSETTO:+0300
TZNAME:EEST
DTSTART:20230326T010000
END:DAYLIGHT
BEGIN:STANDARD
TZOFFSETFROM:+0300
TZOFFSETTO:+0200
TZNAME:EET
DTSTART:20231029T010000
END:STANDARD
BEGIN:DAYLIGHT
TZOFFSETFROM:+0200
TZOFFSETTO:+0300
TZNAME:EEST
DTSTART:20240331T010000
END:DAYLIGHT
BEGIN:STANDARD
TZOFFSETFROM:+0300
TZOFFSETTO:+0200
TZNAME:EET
DTSTART:20241027T010000
END:STANDARD
BEGIN:DAYLIGHT
TZOFFSETFROM:+0200
TZOFFSETTO:+0300
TZNAME:EEST
DTSTART:20250330T010000
END:DAYLIGHT
BEGIN:STANDARD
TZOFFSETFROM:+0300
TZOFFSETTO:+0200
TZNAME:EET
DTSTART:20251026T010000
END:STANDARD
END:VTIMEZONE
BEGIN:VEVENT
DTSTART;TZID=Europe/Athens:20240228T180000
DTEND;TZID=Europe/Athens:20240228T210000
DTSTAMP:20260423T005033
CREATED:20240212T100515Z
LAST-MODIFIED:20250516T101857Z
UID:41678-1709143200-1709154000@www.chioschamber.gr
SUMMARY:Γενική Συνέλευση Σωματείου Υδραυλικών
DESCRIPTION:
URL:https://www.chioschamber.gr/event/%ce%b3%ce%b5%ce%bd%ce%b9%ce%ba%ce%ae-%cf%83%cf%85%ce%bd%ce%ad%ce%bb%ce%b5%cf%85%cf%83%ce%b7-%cf%83%cf%89%ce%bc%ce%b1%cf%84%ce%b5%ce%af%ce%bf%cf%85-%cf%85%ce%b4%cf%81%ce%b1%cf%85%ce%bb%ce%b9%ce%ba-2/
CATEGORIES:Γενικές Εκδηλώσεις
END:VEVENT
END:VCALENDAR