BEGIN:VCALENDAR
VERSION:2.0
PRODID:-//Επιμελητήριο Χίου - ECPv6.15.16//NONSGML v1.0//EN
CALSCALE:GREGORIAN
METHOD:PUBLISH
X-ORIGINAL-URL:https://www.chioschamber.gr
X-WR-CALDESC:Events for Επιμελητήριο Χίου
REFRESH-INTERVAL;VALUE=DURATION:PT1H
X-Robots-Tag:noindex
X-PUBLISHED-TTL:PT1H
BEGIN:VTIMEZONE
TZID:Europe/Athens
BEGIN:DAYLIGHT
TZOFFSETFROM:+0200
TZOFFSETTO:+0300
TZNAME:EEST
DTSTART:20220327T010000
END:DAYLIGHT
BEGIN:STANDARD
TZOFFSETFROM:+0300
TZOFFSETTO:+0200
TZNAME:EET
DTSTART:20221030T010000
END:STANDARD
BEGIN:DAYLIGHT
TZOFFSETFROM:+0200
TZOFFSETTO:+0300
TZNAME:EEST
DTSTART:20230326T010000
END:DAYLIGHT
BEGIN:STANDARD
TZOFFSETFROM:+0300
TZOFFSETTO:+0200
TZNAME:EET
DTSTART:20231029T010000
END:STANDARD
BEGIN:DAYLIGHT
TZOFFSETFROM:+0200
TZOFFSETTO:+0300
TZNAME:EEST
DTSTART:20240331T010000
END:DAYLIGHT
BEGIN:STANDARD
TZOFFSETFROM:+0300
TZOFFSETTO:+0200
TZNAME:EET
DTSTART:20241027T010000
END:STANDARD
END:VTIMEZONE
BEGIN:VEVENT
DTSTART;VALUE=DATE:20230909
DTEND;VALUE=DATE:20230918
DTSTAMP:20260423T113352
CREATED:20230824T090018Z
LAST-MODIFIED:20250516T100320Z
UID:40582-1694217600-1694995199@www.chioschamber.gr
SUMMARY:Συμμετοχή Επιμελητηρίου Χίου στην 87η ΔΕΘ
DESCRIPTION:
URL:https://www.chioschamber.gr/event/%cf%83%cf%85%ce%bc%ce%bc%ce%b5%cf%84%ce%bf%cf%87%ce%ae-%ce%b5%cf%80%ce%b9%ce%bc%ce%b5%ce%bb%ce%b7%cf%84%ce%b7%cf%81%ce%af%ce%bf%cf%85-%cf%87%ce%af%ce%bf%cf%85-%cf%83%cf%84%ce%b7%ce%bd-87%ce%b7-%ce%b4/
LOCATION:Διεθνές Εκθεσιακό & Συνεδριακό Κέντρο Θεσσαλονίκης\, Εγνατία 154\, Ελλάδα
CATEGORIES:Γενικές Εκδηλώσεις
END:VEVENT
END:VCALENDAR