BEGIN:VCALENDAR
VERSION:2.0
PRODID:-//Επιμελητήριο Χίου - ECPv6.15.16//NONSGML v1.0//EN
CALSCALE:GREGORIAN
METHOD:PUBLISH
X-WR-CALNAME:Επιμελητήριο Χίου
X-ORIGINAL-URL:https://www.chioschamber.gr
X-WR-CALDESC:Events for Επιμελητήριο Χίου
REFRESH-INTERVAL;VALUE=DURATION:PT1H
X-Robots-Tag:noindex
X-PUBLISHED-TTL:PT1H
BEGIN:VTIMEZONE
TZID:Europe/Athens
BEGIN:DAYLIGHT
TZOFFSETFROM:+0200
TZOFFSETTO:+0300
TZNAME:EEST
DTSTART:20210328T010000
END:DAYLIGHT
BEGIN:STANDARD
TZOFFSETFROM:+0300
TZOFFSETTO:+0200
TZNAME:EET
DTSTART:20211031T010000
END:STANDARD
BEGIN:DAYLIGHT
TZOFFSETFROM:+0200
TZOFFSETTO:+0300
TZNAME:EEST
DTSTART:20220327T010000
END:DAYLIGHT
BEGIN:STANDARD
TZOFFSETFROM:+0300
TZOFFSETTO:+0200
TZNAME:EET
DTSTART:20221030T010000
END:STANDARD
BEGIN:DAYLIGHT
TZOFFSETFROM:+0200
TZOFFSETTO:+0300
TZNAME:EEST
DTSTART:20230326T010000
END:DAYLIGHT
BEGIN:STANDARD
TZOFFSETFROM:+0300
TZOFFSETTO:+0200
TZNAME:EET
DTSTART:20231029T010000
END:STANDARD
END:VTIMEZONE
BEGIN:VEVENT
DTSTART;TZID=Europe/Athens:20221109T183000
DTEND;TZID=Europe/Athens:20221109T200000
DTSTAMP:20260424T032131
CREATED:20221024T103605Z
LAST-MODIFIED:20250516T102642Z
UID:38136-1668018600-1668024000@www.chioschamber.gr
SUMMARY:Chios Mall_Tηλεκπαίδευση
DESCRIPTION:Διαδικτυακή παρουσίαση της πλατφόρμας “Chios Mall ”  στις επιχειρήσεις που συμμετέχουν στο έργο Ανοικτό Κέντρο Εμπορίου Δ. Χίου\, την Τετάρτη 2 Νοεμβρίου και ώρα 18:30.
URL:https://www.chioschamber.gr/event/chios-mall_t%ce%b7%ce%bb%ce%b5%ce%ba%cf%80%ce%b1%ce%af%ce%b4%ce%b5%cf%85%cf%83%ce%b7/
CATEGORIES:Γενικές Εκδηλώσεις
END:VEVENT
END:VCALENDAR