BEGIN:VCALENDAR
VERSION:2.0
PRODID:-//Επιμελητήριο Χίου - ECPv6.15.16//NONSGML v1.0//EN
CALSCALE:GREGORIAN
METHOD:PUBLISH
X-ORIGINAL-URL:https://www.chioschamber.gr
X-WR-CALDESC:Events for Επιμελητήριο Χίου
REFRESH-INTERVAL;VALUE=DURATION:PT1H
X-Robots-Tag:noindex
X-PUBLISHED-TTL:PT1H
BEGIN:VTIMEZONE
TZID:Europe/Athens
BEGIN:DAYLIGHT
TZOFFSETFROM:+0200
TZOFFSETTO:+0300
TZNAME:EEST
DTSTART:20210328T010000
END:DAYLIGHT
BEGIN:STANDARD
TZOFFSETFROM:+0300
TZOFFSETTO:+0200
TZNAME:EET
DTSTART:20211031T010000
END:STANDARD
BEGIN:DAYLIGHT
TZOFFSETFROM:+0200
TZOFFSETTO:+0300
TZNAME:EEST
DTSTART:20220327T010000
END:DAYLIGHT
BEGIN:STANDARD
TZOFFSETFROM:+0300
TZOFFSETTO:+0200
TZNAME:EET
DTSTART:20221030T010000
END:STANDARD
BEGIN:DAYLIGHT
TZOFFSETFROM:+0200
TZOFFSETTO:+0300
TZNAME:EEST
DTSTART:20230326T010000
END:DAYLIGHT
BEGIN:STANDARD
TZOFFSETFROM:+0300
TZOFFSETTO:+0200
TZNAME:EET
DTSTART:20231029T010000
END:STANDARD
END:VTIMEZONE
BEGIN:VEVENT
DTSTART;TZID=Europe/Athens:20220729T120000
DTEND;TZID=Europe/Athens:20220729T120000
DTSTAMP:20260424T082644
CREATED:20220714T105639Z
LAST-MODIFIED:20250516T102536Z
UID:18797-1659096000-1659096000@www.chioschamber.gr
SUMMARY:Συνάντηση εργασίας με θέμα: ''Ευρωπαϊκές Προοπτικές για τις Ελληνικές Επιχειρήσεις''\, με εισηγήτρια την κ. Άννα-Μισέλ Ασημακοπούλου\, την Παρασκευή 29 Ιουλίου 2022 και ώρα 12 το μεσημέρι.
DESCRIPTION:Δελτίο Τύπου\nΗ Ευρωβουλευτής της Ν.Δ.\, κυρία Άννα – Μισέλ Ασημακοπούλου στο πλαίσιο δράσεων στήριξης των Μικρομεσαίων Επιχειρήσεων (ΜμΕ) και υποστήριξης των πρωτοβουλιών που συμβάλλουν στην ανάπτυξη της εξωστρέφειας τους και της εξασφάλισης της ισότιμης πρόσβασής τους στις διεθνείς αγορές\, θα επισκεφθεί το Eπιμελητήριο Χίου με σκοπό την πραγματοποίηση συνάντηση εργασίας με θέμα “Ευρωπαϊκές Προοπτικές για τις Ελληνικές Επιχειρήσεις”. \nΣας προσκαλούμε στην παραπάνω εκδήλωση που θα λάβει χώρα στην Αίθουσα Συνεδριάσεων του Επιμελητηρίου Χίου\, την Παρασκευή 29 Ιουλίου 2022 και ώρα 12 το μεσημέρι. \nΗ θεματολογία της συνάντησης εργασίας θα επικεντρωθεί στο διεθνές εμπόριο\, τη διαδικτυακή πλατφόρμα Access2Markets και την ενίσχυση της εξωστρέφειας των ελληνικών τοπικών προϊόντων.
URL:https://www.chioschamber.gr/event/%cf%83%cf%85%ce%bd%ce%ac%ce%bd%cf%84%ce%b7%cf%83%ce%b7-%ce%b5%cf%81%ce%b3%ce%b1%cf%83%ce%af%ce%b1%cf%82-%ce%bc%ce%b5-%ce%b8%ce%ad%ce%bc%ce%b1-%ce%b5%cf%85%cf%81%cf%89%cf%80%ce%b1%cf%8a%ce%ba/
CATEGORIES:Γενικές Εκδηλώσεις
ATTACH;FMTTYPE=image/jpeg:https://www.chioschamber.gr/wp-content/uploads/2019/11/A2M_LOGO_F385523103.jpg
END:VEVENT
END:VCALENDAR