BEGIN:VCALENDAR
VERSION:2.0
PRODID:-//Επιμελητήριο Χίου - ECPv6.15.16//NONSGML v1.0//EN
CALSCALE:GREGORIAN
METHOD:PUBLISH
X-WR-CALNAME:Επιμελητήριο Χίου
X-ORIGINAL-URL:https://www.chioschamber.gr
X-WR-CALDESC:Events for Επιμελητήριο Χίου
REFRESH-INTERVAL;VALUE=DURATION:PT1H
X-Robots-Tag:noindex
X-PUBLISHED-TTL:PT1H
BEGIN:VTIMEZONE
TZID:Europe/Athens
BEGIN:DAYLIGHT
TZOFFSETFROM:+0200
TZOFFSETTO:+0300
TZNAME:EEST
DTSTART:20210328T010000
END:DAYLIGHT
BEGIN:STANDARD
TZOFFSETFROM:+0300
TZOFFSETTO:+0200
TZNAME:EET
DTSTART:20211031T010000
END:STANDARD
BEGIN:DAYLIGHT
TZOFFSETFROM:+0200
TZOFFSETTO:+0300
TZNAME:EEST
DTSTART:20220327T010000
END:DAYLIGHT
BEGIN:STANDARD
TZOFFSETFROM:+0300
TZOFFSETTO:+0200
TZNAME:EET
DTSTART:20221030T010000
END:STANDARD
BEGIN:DAYLIGHT
TZOFFSETFROM:+0200
TZOFFSETTO:+0300
TZNAME:EEST
DTSTART:20230326T010000
END:DAYLIGHT
BEGIN:STANDARD
TZOFFSETFROM:+0300
TZOFFSETTO:+0200
TZNAME:EET
DTSTART:20231029T010000
END:STANDARD
END:VTIMEZONE
BEGIN:VEVENT
DTSTART;TZID=Europe/Athens:20220630T183000
DTEND;TZID=Europe/Athens:20220630T203000
DTSTAMP:20260424T082640
CREATED:20220627T110846Z
LAST-MODIFIED:20250516T102544Z
UID:18930-1656613800-1656621000@www.chioschamber.gr
SUMMARY:ΓΣ ΣΥΝΔΕΣΜΟΥ ΧΙΩΝ ΒΙΟΤΕΧΝΩΝ ΥΔΡΑΥΛΙΚΩΝ ΑΠΟ 18:30 ΕΩΣ 20:30
DESCRIPTION:ΓΣ ΣΥΝΔΕΣΜΟΥ ΧΙΩΝ ΒΙΟΤΕΧΝΩΝ ΥΔΡΑΥΛΙΚΩΝ ΑΠΟ 18:30 ΕΩΣ 20:30
URL:https://www.chioschamber.gr/event/%ce%b3%cf%83-%cf%83%cf%85%ce%bd%ce%b4%ce%b5%cf%83%ce%bc%ce%bf%cf%85-%cf%87%ce%b9%cf%89%ce%bd-%ce%b2%ce%b9%ce%bf%cf%84%ce%b5%cf%87%ce%bd%cf%89%ce%bd-%cf%85%ce%b4%cf%81%ce%b1%cf%85%ce%bb%ce%b9%ce%ba/
CATEGORIES:Γενικές Εκδηλώσεις
END:VEVENT
END:VCALENDAR