BEGIN:VCALENDAR
VERSION:2.0
PRODID:-//Επιμελητήριο Χίου - ECPv6.15.16//NONSGML v1.0//EN
CALSCALE:GREGORIAN
METHOD:PUBLISH
X-ORIGINAL-URL:https://www.chioschamber.gr
X-WR-CALDESC:Events for Επιμελητήριο Χίου
REFRESH-INTERVAL;VALUE=DURATION:PT1H
X-Robots-Tag:noindex
X-PUBLISHED-TTL:PT1H
BEGIN:VTIMEZONE
TZID:Europe/Athens
BEGIN:DAYLIGHT
TZOFFSETFROM:+0200
TZOFFSETTO:+0300
TZNAME:EEST
DTSTART:20210328T010000
END:DAYLIGHT
BEGIN:STANDARD
TZOFFSETFROM:+0300
TZOFFSETTO:+0200
TZNAME:EET
DTSTART:20211031T010000
END:STANDARD
BEGIN:DAYLIGHT
TZOFFSETFROM:+0200
TZOFFSETTO:+0300
TZNAME:EEST
DTSTART:20220327T010000
END:DAYLIGHT
BEGIN:STANDARD
TZOFFSETFROM:+0300
TZOFFSETTO:+0200
TZNAME:EET
DTSTART:20221030T010000
END:STANDARD
BEGIN:DAYLIGHT
TZOFFSETFROM:+0200
TZOFFSETTO:+0300
TZNAME:EEST
DTSTART:20230326T010000
END:DAYLIGHT
BEGIN:STANDARD
TZOFFSETFROM:+0300
TZOFFSETTO:+0200
TZNAME:EET
DTSTART:20231029T010000
END:STANDARD
END:VTIMEZONE
BEGIN:VEVENT
DTSTART;TZID=Europe/Athens:20220616T170000
DTEND;TZID=Europe/Athens:20220616T200000
DTSTAMP:20260424T112730
CREATED:20220606T110646Z
LAST-MODIFIED:20250516T102556Z
UID:18926-1655398800-1655409600@www.chioschamber.gr
SUMMARY:ΑΡΧΑΙΡΕΣΙΕΣ ΣΥΛΛΟΓΟΥ ΙΔΙΟΚΤ. ΕΝΟΙΚΙΑΖΟΜΕΝΩΝ ΔΩΜΑΤΙΩΝ ΚΑΙ ΔΙΑΜΕΡΙΣΜΑΤΩΝ ΑΠΟ 17:00 ΕΩΣ 20:00
DESCRIPTION:ΑΡΧΑΙΡΕΣΙΕΣ ΣΥΛΛΟΓΟΥ ΙΔΙΟΚΤ. ΕΝΟΙΚΙΑΖΟΜΕΝΩΝ ΔΩΜΑΤΙΩΝ ΚΑΙ ΔΙΑΜΕΡΙΣΜΑΤΩΝ ΑΠΟ 17:00 ΕΩΣ 20:00
URL:https://www.chioschamber.gr/event/%ce%b1%cf%81%cf%87%ce%b1%ce%b9%cf%81%ce%b5%cf%83%ce%b9%ce%b5%cf%83-%cf%83%cf%85%ce%bb%ce%bb%ce%bf%ce%b3%ce%bf%cf%85-%ce%b9%ce%b4%ce%b9%ce%bf%ce%ba%cf%84-%ce%b5%ce%bd%ce%bf%ce%b9%ce%ba%ce%b9%ce%b1/
CATEGORIES:Γενικές Εκδηλώσεις
END:VEVENT
END:VCALENDAR