BEGIN:VCALENDAR
VERSION:2.0
PRODID:-//Επιμελητήριο Χίου - ECPv6.15.16//NONSGML v1.0//EN
CALSCALE:GREGORIAN
METHOD:PUBLISH
X-WR-CALNAME:Επιμελητήριο Χίου
X-ORIGINAL-URL:https://www.chioschamber.gr
X-WR-CALDESC:Events for Επιμελητήριο Χίου
REFRESH-INTERVAL;VALUE=DURATION:PT1H
X-Robots-Tag:noindex
X-PUBLISHED-TTL:PT1H
BEGIN:VTIMEZONE
TZID:Europe/Athens
BEGIN:DAYLIGHT
TZOFFSETFROM:+0200
TZOFFSETTO:+0300
TZNAME:EEST
DTSTART:20210328T010000
END:DAYLIGHT
BEGIN:STANDARD
TZOFFSETFROM:+0300
TZOFFSETTO:+0200
TZNAME:EET
DTSTART:20211031T010000
END:STANDARD
BEGIN:DAYLIGHT
TZOFFSETFROM:+0200
TZOFFSETTO:+0300
TZNAME:EEST
DTSTART:20220327T010000
END:DAYLIGHT
BEGIN:STANDARD
TZOFFSETFROM:+0300
TZOFFSETTO:+0200
TZNAME:EET
DTSTART:20221030T010000
END:STANDARD
BEGIN:DAYLIGHT
TZOFFSETFROM:+0200
TZOFFSETTO:+0300
TZNAME:EEST
DTSTART:20230326T010000
END:DAYLIGHT
BEGIN:STANDARD
TZOFFSETFROM:+0300
TZOFFSETTO:+0200
TZNAME:EET
DTSTART:20231029T010000
END:STANDARD
END:VTIMEZONE
BEGIN:VEVENT
DTSTART;TZID=Europe/Athens:20220519T180000
DTEND;TZID=Europe/Athens:20220519T180000
DTSTAMP:20260424T114009
CREATED:20220513T110229Z
LAST-MODIFIED:20250516T102610Z
UID:18920-1652983200-1652983200@www.chioschamber.gr
SUMMARY:ΣΥΝΑΝΤΗΣΗ ΕΡΓΑΣΙΑΣ_ ΑΡΩΜΑ ΧΙΟΥ ΣΤΟ ΣΥΝΤΑΓΜΑ ΠΕΜΠΤΗ 19 ΜΑΪΟΥ 2022 ΚΑΙ ΩΡΑ 18:00
DESCRIPTION:ΣΥΝΑΝΤΗΣΗ ΕΡΓΑΣΙΑΣ_ ΑΡΩΜΑ ΧΙΟΥ ΣΤΟ ΣΥΝΤΑΓΜΑ ΠΕΜΠΤΗ 19 ΜΑΪΟΥ 2022 ΚΑΙ ΩΡΑ 18:00
URL:https://www.chioschamber.gr/event/%cf%83%cf%85%ce%bd%ce%b1%ce%bd%cf%84%ce%b7%cf%83%ce%b7-%ce%b5%cf%81%ce%b3%ce%b1%cf%83%ce%b9%ce%b1%cf%83_-%ce%b1%cf%81%cf%89%ce%bc%ce%b1-%cf%87%ce%b9%ce%bf%cf%85-%cf%83%cf%84%ce%bf-%cf%83%cf%85%ce%bd/
CATEGORIES:Γενικές Εκδηλώσεις
END:VEVENT
END:VCALENDAR