BEGIN:VCALENDAR
VERSION:2.0
PRODID:-//Επιμελητήριο Χίου - ECPv6.15.16//NONSGML v1.0//EN
CALSCALE:GREGORIAN
METHOD:PUBLISH
X-ORIGINAL-URL:https://www.chioschamber.gr
X-WR-CALDESC:Events for Επιμελητήριο Χίου
REFRESH-INTERVAL;VALUE=DURATION:PT1H
X-Robots-Tag:noindex
X-PUBLISHED-TTL:PT1H
BEGIN:VTIMEZONE
TZID:Europe/Athens
BEGIN:DAYLIGHT
TZOFFSETFROM:+0200
TZOFFSETTO:+0300
TZNAME:EEST
DTSTART:20210328T010000
END:DAYLIGHT
BEGIN:STANDARD
TZOFFSETFROM:+0300
TZOFFSETTO:+0200
TZNAME:EET
DTSTART:20211031T010000
END:STANDARD
BEGIN:DAYLIGHT
TZOFFSETFROM:+0200
TZOFFSETTO:+0300
TZNAME:EEST
DTSTART:20220327T010000
END:DAYLIGHT
BEGIN:STANDARD
TZOFFSETFROM:+0300
TZOFFSETTO:+0200
TZNAME:EET
DTSTART:20221030T010000
END:STANDARD
BEGIN:DAYLIGHT
TZOFFSETFROM:+0200
TZOFFSETTO:+0300
TZNAME:EEST
DTSTART:20230326T010000
END:DAYLIGHT
BEGIN:STANDARD
TZOFFSETFROM:+0300
TZOFFSETTO:+0200
TZNAME:EET
DTSTART:20231029T010000
END:STANDARD
END:VTIMEZONE
BEGIN:VEVENT
DTSTART;TZID=Europe/Athens:20220511T180000
DTEND;TZID=Europe/Athens:20220511T200000
DTSTAMP:20260424T110947
CREATED:20220428T110126Z
LAST-MODIFIED:20250516T102623Z
UID:18918-1652292000-1652299200@www.chioschamber.gr
SUMMARY:ΔΣ ΧΙΑΚΗ ΑΓΡΟΔΙΑΤΡΟΦΗ ΑΠΟ 18:00 ΕΩΣ 20:00
DESCRIPTION:ΔΣ ΧΙΑΚΗ ΑΓΡΟΔΙΑΤΡΟΦΗ ΑΠΟ 18:00 ΕΩΣ 20:00
URL:https://www.chioschamber.gr/event/%ce%b4%cf%83-%cf%87%ce%b9%ce%b1%ce%ba%ce%b7-%ce%b1%ce%b3%cf%81%ce%bf%ce%b4%ce%b9%ce%b1%cf%84%cf%81%ce%bf%cf%86%ce%b7-%ce%b1%cf%80%ce%bf-1800-%ce%b5%cf%89%cf%83-2000/
CATEGORIES:Γενικές Εκδηλώσεις
END:VEVENT
END:VCALENDAR