BEGIN:VCALENDAR
VERSION:2.0
PRODID:-//Επιμελητήριο Χίου - ECPv6.15.16//NONSGML v1.0//EN
CALSCALE:GREGORIAN
METHOD:PUBLISH
X-ORIGINAL-URL:https://www.chioschamber.gr
X-WR-CALDESC:Events for Επιμελητήριο Χίου
REFRESH-INTERVAL;VALUE=DURATION:PT1H
X-Robots-Tag:noindex
X-PUBLISHED-TTL:PT1H
BEGIN:VTIMEZONE
TZID:Europe/Athens
BEGIN:DAYLIGHT
TZOFFSETFROM:+0200
TZOFFSETTO:+0300
TZNAME:EEST
DTSTART:20210328T010000
END:DAYLIGHT
BEGIN:STANDARD
TZOFFSETFROM:+0300
TZOFFSETTO:+0200
TZNAME:EET
DTSTART:20211031T010000
END:STANDARD
BEGIN:DAYLIGHT
TZOFFSETFROM:+0200
TZOFFSETTO:+0300
TZNAME:EEST
DTSTART:20220327T010000
END:DAYLIGHT
BEGIN:STANDARD
TZOFFSETFROM:+0300
TZOFFSETTO:+0200
TZNAME:EET
DTSTART:20221030T010000
END:STANDARD
BEGIN:DAYLIGHT
TZOFFSETFROM:+0200
TZOFFSETTO:+0300
TZNAME:EEST
DTSTART:20230326T010000
END:DAYLIGHT
BEGIN:STANDARD
TZOFFSETFROM:+0300
TZOFFSETTO:+0200
TZNAME:EET
DTSTART:20231029T010000
END:STANDARD
END:VTIMEZONE
BEGIN:VEVENT
DTSTART;TZID=Europe/Athens:20220503T110000
DTEND;TZID=Europe/Athens:20220503T120000
DTSTAMP:20260424T110944
CREATED:20220427T110021Z
LAST-MODIFIED:20250516T102705Z
UID:18916-1651575600-1651579200@www.chioschamber.gr
SUMMARY:ΣΥΝΑΝΤΗΣΗ ΕΡΓΑΣΙΑΣ _ΤΡΙΤΗ 3 ΜΑΙΟΥ 2022 ΑΠΟ 11:00 ΕΩΣ 12:00
DESCRIPTION:ΣΥΝΑΝΤΗΣΗ ΕΡΓΑΣΙΑΣ _ΤΡΙΤΗ 3 ΜΑΙΟΥ 2022 ΑΠΟ 11:00 ΕΩΣ 12:00
URL:https://www.chioschamber.gr/event/%cf%83%cf%85%ce%bd%ce%b1%ce%bd%cf%84%ce%b7%cf%83%ce%b7-%ce%b5%cf%81%ce%b3%ce%b1%cf%83%ce%b9%ce%b1%cf%83-_%cf%84%cf%81%ce%b9%cf%84%ce%b7-3-%ce%bc%ce%b1%ce%b9%ce%bf%cf%85-2022-%ce%b1%cf%80%ce%bf-1100/
CATEGORIES:Γενικές Εκδηλώσεις
END:VEVENT
END:VCALENDAR