BEGIN:VCALENDAR
VERSION:2.0
PRODID:-//Επιμελητήριο Χίου - ECPv6.15.16//NONSGML v1.0//EN
CALSCALE:GREGORIAN
METHOD:PUBLISH
X-ORIGINAL-URL:https://www.chioschamber.gr
X-WR-CALDESC:Events for Επιμελητήριο Χίου
REFRESH-INTERVAL;VALUE=DURATION:PT1H
X-Robots-Tag:noindex
X-PUBLISHED-TTL:PT1H
BEGIN:VTIMEZONE
TZID:Europe/Athens
BEGIN:DAYLIGHT
TZOFFSETFROM:+0200
TZOFFSETTO:+0300
TZNAME:EEST
DTSTART:20210328T010000
END:DAYLIGHT
BEGIN:STANDARD
TZOFFSETFROM:+0300
TZOFFSETTO:+0200
TZNAME:EET
DTSTART:20211031T010000
END:STANDARD
BEGIN:DAYLIGHT
TZOFFSETFROM:+0200
TZOFFSETTO:+0300
TZNAME:EEST
DTSTART:20220327T010000
END:DAYLIGHT
BEGIN:STANDARD
TZOFFSETFROM:+0300
TZOFFSETTO:+0200
TZNAME:EET
DTSTART:20221030T010000
END:STANDARD
BEGIN:DAYLIGHT
TZOFFSETFROM:+0200
TZOFFSETTO:+0300
TZNAME:EEST
DTSTART:20230326T010000
END:DAYLIGHT
BEGIN:STANDARD
TZOFFSETFROM:+0300
TZOFFSETTO:+0200
TZNAME:EET
DTSTART:20231029T010000
END:STANDARD
END:VTIMEZONE
BEGIN:VEVENT
DTSTART;TZID=Europe/Athens:20220420T180000
DTEND;TZID=Europe/Athens:20220420T200000
DTSTAMP:20260424T133820
CREATED:20220419T105918Z
LAST-MODIFIED:20250516T102711Z
UID:18914-1650477600-1650484800@www.chioschamber.gr
SUMMARY:ΟΕΒΕ_ΔΣ (ΣΥΓΚΡΟΤΗΣΗ ΣΕ ΣΩΜΑ) ΑΠΌ 18:00 ΕΩΣ 20:00
DESCRIPTION:ΟΕΒΕ_ΔΣ (ΣΥΓΚΡΟΤΗΣΗ ΣΕ ΣΩΜΑ) ΑΠΌ 18:00 ΕΩΣ 20:00
URL:https://www.chioschamber.gr/event/%ce%bf%ce%b5%ce%b2%ce%b5_%ce%b4%cf%83-%cf%83%cf%85%ce%b3%ce%ba%cf%81%ce%bf%cf%84%ce%b7%cf%83%ce%b7-%cf%83%ce%b5-%cf%83%cf%89%ce%bc%ce%b1-%ce%b1%cf%80%cf%8c-1800-%ce%b5%cf%89%cf%83-2000/
CATEGORIES:Γενικές Εκδηλώσεις
END:VEVENT
END:VCALENDAR