BEGIN:VCALENDAR
VERSION:2.0
PRODID:-//Επιμελητήριο Χίου - ECPv6.15.16//NONSGML v1.0//EN
CALSCALE:GREGORIAN
METHOD:PUBLISH
X-WR-CALNAME:Επιμελητήριο Χίου
X-ORIGINAL-URL:https://www.chioschamber.gr
X-WR-CALDESC:Events for Επιμελητήριο Χίου
REFRESH-INTERVAL;VALUE=DURATION:PT1H
X-Robots-Tag:noindex
X-PUBLISHED-TTL:PT1H
BEGIN:VTIMEZONE
TZID:Europe/Athens
BEGIN:DAYLIGHT
TZOFFSETFROM:+0200
TZOFFSETTO:+0300
TZNAME:EEST
DTSTART:20230326T010000
END:DAYLIGHT
BEGIN:STANDARD
TZOFFSETFROM:+0300
TZOFFSETTO:+0200
TZNAME:EET
DTSTART:20231029T010000
END:STANDARD
BEGIN:DAYLIGHT
TZOFFSETFROM:+0200
TZOFFSETTO:+0300
TZNAME:EEST
DTSTART:20240331T010000
END:DAYLIGHT
BEGIN:STANDARD
TZOFFSETFROM:+0300
TZOFFSETTO:+0200
TZNAME:EET
DTSTART:20241027T010000
END:STANDARD
BEGIN:DAYLIGHT
TZOFFSETFROM:+0200
TZOFFSETTO:+0300
TZNAME:EEST
DTSTART:20250330T010000
END:DAYLIGHT
BEGIN:STANDARD
TZOFFSETFROM:+0300
TZOFFSETTO:+0200
TZNAME:EET
DTSTART:20251026T010000
END:STANDARD
END:VTIMEZONE
BEGIN:VEVENT
DTSTART;VALUE=DATE:20240907
DTEND;VALUE=DATE:20240916
DTSTAMP:20260422T132355
CREATED:20240822T082908Z
LAST-MODIFIED:20250516T100319Z
UID:42775-1725667200-1726444799@www.chioschamber.gr
SUMMARY:Συμμετοχή του Επιμελητηρίου Χίου στην 88η Διεθνή Έκθεση Θεσσαλονίκης (7-15/9/2024)
DESCRIPTION:Συμμετοχή του Επιμελητηρίου Χίου στην 88η Διεθνή Έκθεση Θεσσαλονίκης (7-15/9/2024)
URL:https://www.chioschamber.gr/event/88%ce%b7-%ce%b4%ce%b9%ce%b5%ce%b8%ce%bd%ce%ae-%ce%ad%ce%ba%ce%b8%ce%b5%cf%83%ce%b7-%ce%b8%ce%b5%cf%83%cf%83%ce%b1%ce%bb%ce%bf%ce%bd%ce%af%ce%ba%ce%b7%cf%82-9-15-9-2024/
LOCATION:Διεθνές Εκθεσιακό & Συνεδριακό Κέντρο Θεσσαλονίκης\, Εγνατία 154\, Ελλάδα
CATEGORIES:Γενικές Εκδηλώσεις
END:VEVENT
BEGIN:VEVENT
DTSTART;TZID=Europe/Athens:20240911T190000
DTEND;TZID=Europe/Athens:20240911T210000
DTSTAMP:20260422T132355
CREATED:20240909T084147Z
LAST-MODIFIED:20250516T100846Z
UID:42895-1726081200-1726088400@www.chioschamber.gr
SUMMARY:Σύνδεσμος Υδραυλικών Χίου
DESCRIPTION:Σύνδεσμος Υδραυλικών Χίου
URL:https://www.chioschamber.gr/event/%cf%83%cf%8d%ce%bd%ce%b4%ce%b5%cf%83%ce%bc%ce%bf%cf%82-%cf%85%ce%b4%cf%81%ce%b1%cf%85%ce%bb%ce%b9%ce%ba%cf%8e%ce%bd-%cf%87%ce%af%ce%bf%cf%85/
CATEGORIES:Γενικές Εκδηλώσεις
END:VEVENT
BEGIN:VEVENT
DTSTART;TZID=Europe/Athens:20240918T180000
DTEND;TZID=Europe/Athens:20240918T200000
DTSTAMP:20260422T132355
CREATED:20240909T075014Z
LAST-MODIFIED:20250516T100832Z
UID:42892-1726682400-1726689600@www.chioschamber.gr
SUMMARY:Φορέας Τουρισμού
DESCRIPTION:Φορέας Τουρισμού
URL:https://www.chioschamber.gr/event/%cf%86%ce%bf%cf%81%ce%ad%ce%b1%cf%82-%cf%84%ce%bf%cf%85%cf%81%ce%b9%cf%83%ce%bc%ce%bf%cf%8d-2/
CATEGORIES:Γενικές Εκδηλώσεις
END:VEVENT
BEGIN:VEVENT
DTSTART;TZID=Europe/Athens:20240923T183000
DTEND;TZID=Europe/Athens:20240923T203000
DTSTAMP:20260422T132355
CREATED:20240830T102714Z
LAST-MODIFIED:20250516T100825Z
UID:42815-1727116200-1727123400@www.chioschamber.gr
SUMMARY:Ενημερωτική εκδήλωση- Παρουσίαση του Ταμείου Επιχειρηματικότητας ΤΕΠΙΧ ΙΙΙ & Παρουσίαση Δράσεων της Ελληνικής Αναπτυξιακής Τράπεζας - HDB
DESCRIPTION:Ενημερωτική εκδήλωση με θέμα: Παρουσίαση του Ταμείου Επιχειρηματικότητας ΤΕΠΙΧ ΙΙΙ & Παρουσίαση όλων των δράσεων της Ελληνικής Αναπτυξιακής Τράπεζας – HDB για την στήριξη και την ευνοϊκή χρηματοδότηση της μικρομεσαίας επιχειρηματικότητας
URL:https://www.chioschamber.gr/event/%ce%b5%ce%bd%ce%b7%ce%bc%ce%b5%cf%81%cf%89%cf%84%ce%b9%ce%ba%ce%ae-%ce%b5%ce%ba%ce%b4%ce%ae%ce%bb%cf%89%cf%83%ce%b7-%cf%80%ce%b1%cf%81%ce%bf%cf%85%cf%83%ce%af%ce%b1%cf%83%ce%b7-%cf%84%ce%bf%cf%85/
CATEGORIES:Γενικές Εκδηλώσεις
END:VEVENT
BEGIN:VEVENT
DTSTART;TZID=Europe/Athens:20240925T150000
DTEND;TZID=Europe/Athens:20240925T200000
DTSTAMP:20260422T132355
CREATED:20240805T082941Z
LAST-MODIFIED:20250516T101811Z
UID:42713-1727276400-1727294400@www.chioschamber.gr
SUMMARY:ΣΕΜΙΝΑΡΙΟ ΤΕΧΝΙΚΟΥ ΑΣΦΑΛΕΙΑΣ Γ' ΚΑΤΗΓΟΡΙΑΣ (Α ΜΕΡΟΣ)
DESCRIPTION:ΣΕΜΙΝΑΡΙΟ ΤΕΧΝΙΚΟΥ ΑΣΦΑΛΕΙΑΣ Γ’ ΚΑΤΗΓΟΡΙΑΣ (Α ΜΕΡΟΣ)
URL:https://www.chioschamber.gr/event/%cf%83%ce%b5%ce%bc%ce%b9%ce%bd%ce%b1%cf%81%ce%b9%ce%bf-%cf%84%ce%b5%cf%87%ce%bd%ce%b9%ce%ba%ce%bf%cf%85-%ce%b1%cf%83%cf%86%ce%b1%ce%bb%ce%b5%ce%b9%ce%b1%cf%83-%ce%b3-%ce%ba%ce%b1%cf%84%ce%b7%ce%b3-2/
CATEGORIES:Γενικές Εκδηλώσεις
END:VEVENT
END:VCALENDAR