BEGIN:VCALENDAR
VERSION:2.0
PRODID:-//Επιμελητήριο Χίου - ECPv6.15.16//NONSGML v1.0//EN
CALSCALE:GREGORIAN
METHOD:PUBLISH
X-ORIGINAL-URL:https://www.chioschamber.gr
X-WR-CALDESC:Events for Επιμελητήριο Χίου
REFRESH-INTERVAL;VALUE=DURATION:PT1H
X-Robots-Tag:noindex
X-PUBLISHED-TTL:PT1H
BEGIN:VTIMEZONE
TZID:Europe/Athens
BEGIN:DAYLIGHT
TZOFFSETFROM:+0200
TZOFFSETTO:+0300
TZNAME:EEST
DTSTART:20220327T010000
END:DAYLIGHT
BEGIN:STANDARD
TZOFFSETFROM:+0300
TZOFFSETTO:+0200
TZNAME:EET
DTSTART:20221030T010000
END:STANDARD
BEGIN:DAYLIGHT
TZOFFSETFROM:+0200
TZOFFSETTO:+0300
TZNAME:EEST
DTSTART:20230326T010000
END:DAYLIGHT
BEGIN:STANDARD
TZOFFSETFROM:+0300
TZOFFSETTO:+0200
TZNAME:EET
DTSTART:20231029T010000
END:STANDARD
BEGIN:DAYLIGHT
TZOFFSETFROM:+0200
TZOFFSETTO:+0300
TZNAME:EEST
DTSTART:20240331T010000
END:DAYLIGHT
BEGIN:STANDARD
TZOFFSETFROM:+0300
TZOFFSETTO:+0200
TZNAME:EET
DTSTART:20241027T010000
END:STANDARD
END:VTIMEZONE
BEGIN:VEVENT
DTSTART;TZID=Europe/Athens:20230404T180000
DTEND;TZID=Europe/Athens:20230404T203000
DTSTAMP:20260423T182058
CREATED:20230329T123528Z
LAST-MODIFIED:20250516T102137Z
UID:39472-1680631200-1680640200@www.chioschamber.gr
SUMMARY:Συνάντηση εργασίας _ Φορέας Τουρισμού
DESCRIPTION:Συνάντηση εργασίας στις 18:00.
URL:https://www.chioschamber.gr/event/%cf%83%cf%85%ce%bd%ce%ac%ce%bd%cf%84%ce%b7%cf%83%ce%b7-%ce%b5%cf%81%ce%b3%ce%b1%cf%83%ce%af%ce%b1%cf%82-_-%cf%86%ce%bf%cf%81%ce%ad%ce%b1%cf%82-%cf%84%ce%bf%cf%85%cf%81%ce%b9%cf%83%ce%bc%ce%bf%cf%8d/
CATEGORIES:Γενικές Εκδηλώσεις
END:VEVENT
BEGIN:VEVENT
DTSTART;TZID=Europe/Athens:20230407T090000
DTEND;TZID=Europe/Athens:20230407T100000
DTSTAMP:20260423T182058
CREATED:20230405T073314Z
LAST-MODIFIED:20250516T102129Z
UID:39562-1680858000-1680861600@www.chioschamber.gr
SUMMARY:Συνάντηση εργασίας με ΕΤΑΧ.
DESCRIPTION:
URL:https://www.chioschamber.gr/event/%cf%83%cf%85%ce%bd%ce%ac%ce%bd%cf%84%ce%b7%cf%83%ce%b7-%ce%b5%cf%81%ce%b3%ce%b1%cf%83%ce%af%ce%b1%cf%82-%ce%bc%ce%b5-%ce%b5%cf%84%ce%b1%cf%87/
CATEGORIES:Γενικές Εκδηλώσεις
END:VEVENT
BEGIN:VEVENT
DTSTART;TZID=Europe/Athens:20230412T110000
DTEND;TZID=Europe/Athens:20230412T110000
DTSTAMP:20260423T182058
CREATED:20230411T112059Z
LAST-MODIFIED:20250516T102304Z
UID:39617-1681297200-1681297200@www.chioschamber.gr
SUMMARY:Σύλλογος Εστίασης
DESCRIPTION:
URL:https://www.chioschamber.gr/event/%cf%83%cf%8d%ce%bb%ce%bb%ce%bf%ce%b3%ce%bf%cf%82-%ce%b5%cf%83%cf%84%ce%af%ce%b1%cf%83%ce%b7%cf%82/
CATEGORIES:Γενικές Εκδηλώσεις
END:VEVENT
BEGIN:VEVENT
DTSTART;TZID=Europe/Athens:20230412T180000
DTEND;TZID=Europe/Athens:20230412T193000
DTSTAMP:20260423T182058
CREATED:20230405T073451Z
LAST-MODIFIED:20250516T102257Z
UID:39565-1681322400-1681327800@www.chioschamber.gr
SUMMARY:ΔΣ _Σύλλογος Υδραυλικών Χίου
DESCRIPTION:
URL:https://www.chioschamber.gr/event/%ce%b4%cf%83-_%cf%83%cf%8d%ce%bb%ce%bb%ce%bf%ce%b3%ce%bf%cf%82-%cf%85%ce%b4%cf%81%ce%b1%cf%85%ce%bb%ce%b9%ce%ba%cf%8e%ce%bd-%cf%87%ce%af%ce%bf%cf%85/
CATEGORIES:Γενικές Εκδηλώσεις
END:VEVENT
BEGIN:VEVENT
DTSTART;TZID=Europe/Athens:20230413T120000
DTEND;TZID=Europe/Athens:20230413T130000
DTSTAMP:20260423T182058
CREATED:20230412T070943Z
LAST-MODIFIED:20250516T102250Z
UID:39619-1681387200-1681390800@www.chioschamber.gr
SUMMARY:Σώμα Ελλήνων Προσκόπων
DESCRIPTION:
URL:https://www.chioschamber.gr/event/%cf%83%cf%8e%ce%bc%ce%b1-%ce%b5%ce%bb%ce%bb%ce%ae%ce%bd%cf%89%ce%bd-%cf%80%cf%81%ce%bf%cf%83%ce%ba%cf%8c%cf%80%cf%89%ce%bd-2/
CATEGORIES:Γενικές Εκδηλώσεις
END:VEVENT
BEGIN:VEVENT
DTSTART;TZID=Europe/Athens:20230420T130000
DTEND;TZID=Europe/Athens:20230420T150000
DTSTAMP:20260423T182058
CREATED:20230418T063910Z
LAST-MODIFIED:20250516T102240Z
UID:39665-1681995600-1682002800@www.chioschamber.gr
SUMMARY:Σώμα Ελλήνων Προσκόπων
DESCRIPTION:
URL:https://www.chioschamber.gr/event/%cf%83%cf%8e%ce%bc%ce%b1-%ce%b5%ce%bb%ce%bb%ce%ae%ce%bd%cf%89%ce%bd-%cf%80%cf%81%ce%bf%cf%83%ce%ba%cf%8c%cf%80%cf%89%ce%bd-3/
CATEGORIES:Γενικές Εκδηλώσεις
END:VEVENT
BEGIN:VEVENT
DTSTART;TZID=Europe/Athens:20230421T120000
DTEND;TZID=Europe/Athens:20230421T130000
DTSTAMP:20260423T182058
CREATED:20230419T082519Z
LAST-MODIFIED:20250516T102233Z
UID:39672-1682078400-1682082000@www.chioschamber.gr
SUMMARY:Συνάντηση Εργασίας με τη Βοτανολόγο Τριάντου Σοφία_ Άρωμα Χίου_Special Events
DESCRIPTION:
URL:https://www.chioschamber.gr/event/%cf%83%cf%85%ce%bd%ce%ac%ce%bd%cf%84%ce%b7%cf%83%ce%b7-%ce%b5%cf%81%ce%b3%ce%b1%cf%83%ce%af%ce%b1%cf%82-%ce%bc%ce%b5-%cf%84%ce%b7-%ce%b2%ce%bf%cf%84%ce%b1%ce%bd%ce%bf%ce%bb%cf%8c%ce%b3%ce%bf-%cf%84/
CATEGORIES:Γενικές Εκδηλώσεις
END:VEVENT
BEGIN:VEVENT
DTSTART;TZID=Europe/Athens:20230421T140000
DTEND;TZID=Europe/Athens:20230421T143000
DTSTAMP:20260423T182058
CREATED:20230420T085259Z
LAST-MODIFIED:20250516T102224Z
UID:39674-1682085600-1682087400@www.chioschamber.gr
SUMMARY:Συνάντηση Εργασίας με κ.Ανδρέου_Άρωμα Χίου_Special Events
DESCRIPTION:
URL:https://www.chioschamber.gr/event/%cf%83%cf%85%ce%bd%ce%ac%ce%bd%cf%84%ce%b7%cf%83%ce%b7-%ce%b5%cf%81%ce%b3%ce%b1%cf%83%ce%af%ce%b1%cf%82-%ce%bc%ce%b5-%ce%ba-%ce%b1%ce%bd%ce%b4%cf%81%ce%ad%ce%bf%cf%85_%ce%ac%cf%81%cf%89%ce%bc%ce%b1/
CATEGORIES:Γενικές Εκδηλώσεις
END:VEVENT
END:VCALENDAR