BEGIN:VCALENDAR
VERSION:2.0
PRODID:-//Επιμελητήριο Χίου - ECPv6.15.16//NONSGML v1.0//EN
CALSCALE:GREGORIAN
METHOD:PUBLISH
X-ORIGINAL-URL:https://www.chioschamber.gr
X-WR-CALDESC:Events for Επιμελητήριο Χίου
REFRESH-INTERVAL;VALUE=DURATION:PT1H
X-Robots-Tag:noindex
X-PUBLISHED-TTL:PT1H
BEGIN:VTIMEZONE
TZID:Europe/Athens
BEGIN:DAYLIGHT
TZOFFSETFROM:+0200
TZOFFSETTO:+0300
TZNAME:EEST
DTSTART:20210328T010000
END:DAYLIGHT
BEGIN:STANDARD
TZOFFSETFROM:+0300
TZOFFSETTO:+0200
TZNAME:EET
DTSTART:20211031T010000
END:STANDARD
BEGIN:DAYLIGHT
TZOFFSETFROM:+0200
TZOFFSETTO:+0300
TZNAME:EEST
DTSTART:20220327T010000
END:DAYLIGHT
BEGIN:STANDARD
TZOFFSETFROM:+0300
TZOFFSETTO:+0200
TZNAME:EET
DTSTART:20221030T010000
END:STANDARD
BEGIN:DAYLIGHT
TZOFFSETFROM:+0200
TZOFFSETTO:+0300
TZNAME:EEST
DTSTART:20230326T010000
END:DAYLIGHT
BEGIN:STANDARD
TZOFFSETFROM:+0300
TZOFFSETTO:+0200
TZNAME:EET
DTSTART:20231029T010000
END:STANDARD
END:VTIMEZONE
BEGIN:VEVENT
DTSTART;TZID=Europe/Athens:20220402T180000
DTEND;TZID=Europe/Athens:20220402T200000
DTSTAMP:20260424T122258
CREATED:20220314T115055Z
LAST-MODIFIED:20250516T101027Z
UID:18900-1648922400-1648929600@www.chioschamber.gr
SUMMARY:ΓΣ ΟΕΒΕ ΑΠΟ 18:00 ΕΩΣ 20:00
DESCRIPTION:ΓΣ ΟΕΒΕ ΑΠΟ 18:00 ΕΩΣ 20:00
URL:https://www.chioschamber.gr/event/%ce%b3%cf%83-%ce%bf%ce%b5%ce%b2%ce%b5-%ce%b1%cf%80%ce%bf-1800-%ce%b5%cf%89%cf%83-2000/
CATEGORIES:Γενικές Εκδηλώσεις
END:VEVENT
BEGIN:VEVENT
DTSTART;TZID=Europe/Athens:20220403T090000
DTEND;TZID=Europe/Athens:20220403T140000
DTSTAMP:20260424T122258
CREATED:20220303T113300Z
LAST-MODIFIED:20250516T101033Z
UID:18891-1648976400-1648994400@www.chioschamber.gr
SUMMARY:ΑΡΧΑΙΡΕΣΙΕΣ ΟΔΟΝΤΙΑΤΡΙΚΟΥ ΣΥΛΛΟΓΟΥ ΑΠΟ 9:00 ΕΩΣ 14:00
DESCRIPTION:ΑΡΧΑΙΡΕΣΙΕΣ ΟΔΟΝΤΙΑΤΡΙΚΟΥ ΣΥΛΛΟΓΟΥ ΑΠΟ 9:00 ΕΩΣ 14:00
URL:https://www.chioschamber.gr/event/%ce%b1%cf%81%cf%87%ce%b1%ce%b9%cf%81%ce%b5%cf%83%ce%b9%ce%b5%cf%83-%ce%bf%ce%b4%ce%bf%ce%bd%cf%84%ce%b9%ce%b1%cf%84%cf%81%ce%b9%ce%ba%ce%bf%cf%85-%cf%83%cf%85%ce%bb%ce%bb%ce%bf%ce%b3%ce%bf%cf%85/
CATEGORIES:Γενικές Εκδηλώσεις
END:VEVENT
BEGIN:VEVENT
DTSTART;TZID=Europe/Athens:20220406T170000
DTEND;TZID=Europe/Athens:20220406T210000
DTSTAMP:20260424T122258
CREATED:20220331T105545Z
LAST-MODIFIED:20250516T101040Z
UID:18908-1649264400-1649278800@www.chioschamber.gr
SUMMARY:ΑΡΧΑΙΡΕΣΙΕΣ ΣΥΛΛΟΓΟΥ ΑΡΤΟΠΟΙΩΝ 17:00 ΈΩΣ 21:00
DESCRIPTION:ΑΡΧΑΙΡΕΣΙΕΣ ΣΥΛΛΟΓΟΥ ΑΡΤΟΠΟΙΩΝ 17:00 ΈΩΣ 21:00
URL:https://www.chioschamber.gr/event/%ce%b1%cf%81%cf%87%ce%b1%ce%b9%cf%81%ce%b5%cf%83%ce%b9%ce%b5%cf%83-%cf%83%cf%85%ce%bb%ce%bb%ce%bf%ce%b3%ce%bf%cf%85-%ce%b1%cf%81%cf%84%ce%bf%cf%80%ce%bf%ce%b9%cf%89%ce%bd-1700-%ce%ad%cf%89%cf%83-210/
CATEGORIES:Γενικές Εκδηλώσεις
END:VEVENT
BEGIN:VEVENT
DTSTART;TZID=Europe/Athens:20220408T103000
DTEND;TZID=Europe/Athens:20220408T110000
DTSTAMP:20260424T122258
CREATED:20220407T105801Z
LAST-MODIFIED:20250516T101051Z
UID:18912-1649413800-1649415600@www.chioschamber.gr
SUMMARY:Συνάντηση Ιδιοκτ. Καταστημάτων Υγειονομικού Ενδιαφέροντος 10:30 έως 11:00
DESCRIPTION:Συνάντηση Ιδιοκτ. Καταστημάτων Υγειονομικού Ενδιαφέροντος 10:30 έως 11:00
URL:https://www.chioschamber.gr/event/%cf%83%cf%85%ce%bd%ce%ac%ce%bd%cf%84%ce%b7%cf%83%ce%b7-%ce%b9%ce%b4%ce%b9%ce%bf%ce%ba%cf%84-%ce%ba%ce%b1%cf%84%ce%b1%cf%83%cf%84%ce%b7%ce%bc%ce%ac%cf%84%cf%89%ce%bd-%cf%85%ce%b3%ce%b5%ce%b9%ce%bf/
CATEGORIES:Γενικές Εκδηλώσεις
END:VEVENT
BEGIN:VEVENT
DTSTART;TZID=Europe/Athens:20220413T100000
DTEND;TZID=Europe/Athens:20220413T180000
DTSTAMP:20260424T122258
CREATED:20220404T105658Z
LAST-MODIFIED:20250516T101111Z
UID:18910-1649844000-1649872800@www.chioschamber.gr
SUMMARY:ΑΡΧΑΙΡΕΣΙΕΣ ΣΥΛΛΟΓΟΥ ΙΔΙΟΚΤΗΤΩΝ ΚΑΤΑΣΤ. ΥΓΕΙΟΝΟΜΙΚΟΥ ΕΝΔ. ΑΠΟ 10:00 ΕΩΣ 18:00
DESCRIPTION:ΑΡΧΑΙΡΕΣΙΕΣ ΣΥΛΛΟΓΟΥ ΙΔΙΟΚΤΗΤΩΝ ΚΑΤΑΣΤ. ΥΓΕΙΟΝΟΜΙΚΟΥ ΕΝΔ. ΑΠΟ 10:00 ΕΩΣ 18:00
URL:https://www.chioschamber.gr/event/%ce%b1%cf%81%cf%87%ce%b1%ce%b9%cf%81%ce%b5%cf%83%ce%b9%ce%b5%cf%83-%cf%83%cf%85%ce%bb%ce%bb%ce%bf%ce%b3%ce%bf%cf%85-%ce%b9%ce%b4%ce%b9%ce%bf%ce%ba%cf%84%ce%b7%cf%84%cf%89%ce%bd-%ce%ba%ce%b1%cf%84/
CATEGORIES:Γενικές Εκδηλώσεις
END:VEVENT
BEGIN:VEVENT
DTSTART;TZID=Europe/Athens:20220416T130000
DTEND;TZID=Europe/Athens:20220416T170000
DTSTAMP:20260424T122258
CREATED:20220314T115152Z
LAST-MODIFIED:20250516T102717Z
UID:18902-1650114000-1650128400@www.chioschamber.gr
SUMMARY:ΑΡΧΑΙΡΕΣΙΕΣ Ο.Ε.Β.Ε ΑΠΟ 13:00 ΕΩΣ 17:00
DESCRIPTION:ΑΡΧΑΙΡΕΣΙΕΣ Ο.Ε.Β.Ε ΑΠΟ 13:00 ΕΩΣ 17:00
URL:https://www.chioschamber.gr/event/%ce%b1%cf%81%cf%87%ce%b1%ce%b9%cf%81%ce%b5%cf%83%ce%b9%ce%b5%cf%83-%ce%bf-%ce%b5-%ce%b2-%ce%b5-%ce%b1%cf%80%ce%bf-1300-%ce%b5%cf%89%cf%83-1700/
CATEGORIES:Γενικές Εκδηλώσεις
END:VEVENT
BEGIN:VEVENT
DTSTART;TZID=Europe/Athens:20220420T180000
DTEND;TZID=Europe/Athens:20220420T200000
DTSTAMP:20260424T122258
CREATED:20220419T105918Z
LAST-MODIFIED:20250516T102711Z
UID:18914-1650477600-1650484800@www.chioschamber.gr
SUMMARY:ΟΕΒΕ_ΔΣ (ΣΥΓΚΡΟΤΗΣΗ ΣΕ ΣΩΜΑ) ΑΠΌ 18:00 ΕΩΣ 20:00
DESCRIPTION:ΟΕΒΕ_ΔΣ (ΣΥΓΚΡΟΤΗΣΗ ΣΕ ΣΩΜΑ) ΑΠΌ 18:00 ΕΩΣ 20:00
URL:https://www.chioschamber.gr/event/%ce%bf%ce%b5%ce%b2%ce%b5_%ce%b4%cf%83-%cf%83%cf%85%ce%b3%ce%ba%cf%81%ce%bf%cf%84%ce%b7%cf%83%ce%b7-%cf%83%ce%b5-%cf%83%cf%89%ce%bc%ce%b1-%ce%b1%cf%80%cf%8c-1800-%ce%b5%cf%89%cf%83-2000/
CATEGORIES:Γενικές Εκδηλώσεις
END:VEVENT
END:VCALENDAR