BEGIN:VCALENDAR
VERSION:2.0
PRODID:-//Επιμελητήριο Χίου - ECPv6.15.16//NONSGML v1.0//EN
CALSCALE:GREGORIAN
METHOD:PUBLISH
X-WR-CALNAME:Επιμελητήριο Χίου
X-ORIGINAL-URL:https://www.chioschamber.gr
X-WR-CALDESC:Events for Επιμελητήριο Χίου
REFRESH-INTERVAL;VALUE=DURATION:PT1H
X-Robots-Tag:noindex
X-PUBLISHED-TTL:PT1H
BEGIN:VTIMEZONE
TZID:Europe/Athens
BEGIN:DAYLIGHT
TZOFFSETFROM:+0200
TZOFFSETTO:+0300
TZNAME:EEST
DTSTART:20240331T010000
END:DAYLIGHT
BEGIN:STANDARD
TZOFFSETFROM:+0300
TZOFFSETTO:+0200
TZNAME:EET
DTSTART:20241027T010000
END:STANDARD
BEGIN:DAYLIGHT
TZOFFSETFROM:+0200
TZOFFSETTO:+0300
TZNAME:EEST
DTSTART:20250330T010000
END:DAYLIGHT
BEGIN:STANDARD
TZOFFSETFROM:+0300
TZOFFSETTO:+0200
TZNAME:EET
DTSTART:20251026T010000
END:STANDARD
BEGIN:DAYLIGHT
TZOFFSETFROM:+0200
TZOFFSETTO:+0300
TZNAME:EEST
DTSTART:20260329T010000
END:DAYLIGHT
BEGIN:STANDARD
TZOFFSETFROM:+0300
TZOFFSETTO:+0200
TZNAME:EET
DTSTART:20261025T010000
END:STANDARD
END:VTIMEZONE
BEGIN:VEVENT
DTSTART;TZID=Europe/Athens:20251126T170000
DTEND;TZID=Europe/Athens:20251126T190000
DTSTAMP:20260419T194319
CREATED:20251121T125841Z
LAST-MODIFIED:20251121T125841Z
UID:46150-1764176400-1764183600@www.chioschamber.gr
SUMMARY:Συνάντηση στην Αίθουσα Συνεδριάσεων του Επιμελητηρίου Χίου- Υπευθ. Κουτρής Μιχάλης
DESCRIPTION:
URL:https://www.chioschamber.gr/event/%cf%83%cf%85%ce%bd%ce%ac%ce%bd%cf%84%ce%b7%cf%83%ce%b7-%cf%83%cf%84%ce%b7%ce%bd-%ce%b1%ce%af%ce%b8%ce%bf%cf%85%cf%83%ce%b1-%cf%83%cf%85%ce%bd%ce%b5%ce%b4%cf%81%ce%b9%ce%ac%cf%83%ce%b5%cf%89%ce%bd/
CATEGORIES:Αίθουσα Συνεδριάσεων
END:VEVENT
END:VCALENDAR